{"text_format":"1","workbook":"xlsx","n_sheets":10,"sheets":["120 KM YR","120 KM MAY","80 KM YR","80 KM MAY","team","Documentation","Annex II - IOC Codes","Annex I - Currencies","Examples","Hoja1"],"not_rendered":{"charts":0,"images":0,"macros":1,"external_links":1,"defined_names":6,"comments":0,"pivot_tables":0},"unopened":[],"bounds":{"document_bytes":16777216,"sheet_cells":100000,"rows_first":2000,"rows_last":500,"rows_between":2000,"halvings":0,"cell_chars":16384,"cell_head_chars":4096},"cells_cut":0,"cells_raw":0,"read":"whole","date_system":"1900"}

{"sheet":"120 KM YR","index":0,"n_rows":8,"n_cols":39,"rows_kept":8,"cut":false,"hidden":false,"merged":[]}
["ns1:Position","ns1:PosStatus","ns1:PosStatusComplement","ns1:PosStatusComplementData","ns1:CompetitorFEIID","ns1:CompetitorFirstname","ns1:CompetitorFamilyname","ns1:HorseFEIID","ns1:HorseCompleteName","ns1:Prize","ns1:PrizeCurrency","ns1:IsWNominated","ns1:TeamNF","ns1:CompetingFor","ns1:First Vet Inspection Elimination Code","ns1:AvgSpeed1","ns1:RideTime1","ns1:Vet Gat eElim Code1","ns1:AvgSpeed2","ns1:RideTime2","ns1:VetGateElimCode2","ns1:AvgSpeed3","ns1:RideTime3","ns1:VetGateElimCode3","ns1:AvgSpeed4","ns1:RideTime4","ns1:VetGateElimCode4","ns1:AvgSpeed5","ns1:RideTime5","ns1:VetGateElimCode5","ns1:AvgSpeed6","ns1:RideTime6","ns1:VetGateElimCode6","ns1:AvgSpeed7","ns1:RideTime7","ns1:VetFinalInspElimCode","ns1:BestCondition","ns1:TotalAvgSpeed","ns1:TotalTime"]
[]
[1,"R",null,null,10083644,"JOSEFINA","ROLT","104IW06","GUAZU DESAFIO",null,null,null,null,"ARG",null,{"$f":"'[1]120 KM'!J26","v":11.220414921593454},{"$f":"'[1]120 KM'!K26","v":"02:51:07"},null,{"$f":"'[1]120 KM'!Q26","v":21.482412060301506},{"$f":"'[1]120 KM'!R26","v":"00:53:04"},null,{"$f":"'[1]120 KM'!X26","v":16.308040770101915},{"$f":"'[1]120 KM'!Y26","v":"01:28:18"},null,{"$f":"'[1]120 KM'!AE26","v":15.870069605568458},{"$f":"'[1]120 KM'!AF26","v":"01:11:50"},null,{"$f":"'[1]120 KM'!AL26","v":15.118110236220469},{"$f":"'[1]120 KM'!AM26","v":"01:35:15"},null,null,null,null,null,null,null,null,{"$f":"'[1]120 KM'!AU26","v":15.999809518757161},{"$f":"'[1]120 KM'!AV26","v":"07:59:34"}]
[2,"R",null,null,10105510,"PILAR","ZANNINO","104HA38","TALITO SU",null,null,null,null,"ARG",null,{"$f":"'[1]120 KM'!J27","v":13.356521739130432},{"$f":"'[1]120 KM'!K27","v":"02:23:45"},null,{"$f":"'[1]120 KM'!Q27","v":13.026090268520287},{"$f":"'[1]120 KM'!R27","v":"01:27:31"},null,{"$f":"'[1]120 KM'!X27","v":14.614343707713111},{"$f":"'[1]120 KM'!Y27","v":"01:38:32"},null,{"$f":"'[1]120 KM'!AE27","v":18.357487922705282},{"$f":"'[1]120 KM'!AF27","v":"01:02:06"},null,{"$f":"'[1]120 KM'!AL27","v":16.071428571428555},{"$f":"'[1]120 KM'!AM27","v":"01:29:36"},null,null,null,null,null,null,null,null,{"$f":"'[1]120 KM'!AU27","v":15.085174441899534},{"$f":"'[1]120 KM'!AV27","v":"08:01:30"}]
[3,"R",null,null,10105149,"MAGA ","ARAMBUENA","104CQ47","HCE MAGPABLO",null,null,null,null,"ARG",null,{"$f":"'[1]120 KM'!J28","v":13.34414456156609},{"$f":"'[1]120 KM'!K28","v":"02:23:53"},null,{"$f":"'[1]120 KM'!Q28","v":12.971742840887545},{"$f":"'[1]120 KM'!R28","v":"01:27:53"},null,{"$f":"'[1]120 KM'!X28","v":14.285714285714272},{"$f":"'[1]120 KM'!Y28","v":"01:40:48"},null,{"$f":"'[1]120 KM'!AE28","v":17.082917082917099},{"$f":"'[1]120 KM'!AF28","v":"01:06:44"},null,{"$f":"'[1]120 KM'!AL28","v":15.126050420168065},{"$f":"'[1]120 KM'!AM28","v":"01:35:12"},null,null,null,null,null,null,null,null,{"$f":"'[1]120 KM'!AU28","v":14.562113838250614},{"$f":"'[1]120 KM'!AV28","v":"08:14:30"}]
[4,"R",null,null,10074622,"SANTINA","ZUNINO","104DB73","ALEGRA SU",null,null,null,null,"ARG",null,{"$f":"'[1]120 KM'!J29","v":13.37513061650993},{"$f":"'[1]120 KM'!K29","v":"02:23:33"},null,{"$f":"'[1]120 KM'!Q29","v":13.617360143340631},{"$f":"'[1]120 KM'!R29","v":"01:23:43"},null,{"$f":"'[1]120 KM'!X29","v":13.863928112965336},{"$f":"'[1]120 KM'!Y29","v":"01:43:52"},null,{"$f":"'[1]120 KM'!AE29","v":17.220543806646578},{"$f":"'[1]120 KM'!AF29","v":"01:06:12"},null,{"$f":"'[1]120 KM'!AL29","v":14.63662544468915},{"$f":"'[1]120 KM'!AM29","v":"01:38:23"},null,null,null,null,null,null,null,null,{"$f":"'[1]120 KM'!AU29","v":14.542717624830322},{"$f":"'[1]120 KM'!AV29","v":"08:15:43"}]
[null,"WD",null,null,10091869,"MATIAS","CABRERA","103XR20","LA RUBIA",null,null,null,null,"ARG"]
[null,"WD",null,null,10100913,"CAMILA ","BILBAO ","103FD65","TONA PP",null,null,null,null,"ARG"]

{"sheet":"120 KM MAY","index":1,"n_rows":24,"n_cols":39,"rows_kept":24,"cut":false,"hidden":false,"merged":[]}
["ns1:Position","ns1:PosStatus","ns1:PosStatusComplement","ns1:PosStatusComplementData","ns1:CompetitorFEIID","ns1:CompetitorFirstname","ns1:CompetitorFamilyname","ns1:HorseFEIID","ns1:HorseCompleteName","ns1:Prize","ns1:PrizeCurrency","ns1:IsWNominated","ns1:TeamNF","ns1:CompetingFor","ns1:First Vet Inspection Elimination Code","ns1:AvgSpeed1","ns1:RideTime1","ns1:Vet Gat eElim Code1","ns1:AvgSpeed2","ns1:RideTime2","ns1:VetGateElimCode2","ns1:AvgSpeed3","ns1:RideTime3","ns1:VetGateElimCode3","ns1:AvgSpeed4","ns1:RideTime4","ns1:VetGateElimCode4","ns1:AvgSpeed5","ns1:RideTime5","ns1:VetGateElimCode5","ns1:AvgSpeed6","ns1:RideTime6","ns1:VetGateElimCode6","ns1:AvgSpeed7","ns1:RideTime7","ns1:VetFinalInspElimCode","ns1:BestCondition","ns1:TotalAvgSpeed","ns1:TotalTime"]
[]
[1,"R",null,null,10018001,"MAGALI","MENDEZ","104HA12","LT SAYA",null,null,null,null,"ARG",null,{"$f":"'[1]120 KM'!J2","v":22.039410751865301},{"$f":"'[1]120 KM'!K2","v":"01:27:07"},null,{"$f":"'[1]120 KM'!Q2","v":20.236686390532554},{"$f":"'[1]120 KM'!R2","v":"00:56:20"},null,{"$f":"'[1]120 KM'!X2","v":16.957801766437694},{"$f":"'[1]120 KM'!Y2","v":"01:24:55"},null,{"$f":"'[1]120 KM'!AE2","v":20.017559262510993},{"$f":"'[1]120 KM'!AF2","v":"00:56:57"},null,{"$f":"'[1]120 KM'!AL2","v":16.369837059492269},{"$f":"'[1]120 KM'!AM2","v":"01:27:58"},null,null,null,null,null,null,null,"TRUE","18;97","06:13:17"]
[2,"R",null,null,10066730,"SONIA BEATRIZ ","HUIZENGA","103PP05","SORAYA 001",null,null,null,null,"ARG",null,{"$f":"'[1]120 KM'!J3","v":22.677165354330707},{"$f":"'[1]120 KM'!K3","v":"01:24:40"},null,{"$f":"'[1]120 KM'!Q3","v":20.602409638554221},{"$f":"'[1]120 KM'!R3","v":"00:55:20"},null,{"$f":"'[1]120 KM'!X3","v":16.567593480345153},{"$f":"'[1]120 KM'!Y3","v":"01:26:55"},null,{"$f":"'[1]120 KM'!AE3","v":17.915138816134121},{"$f":"'[1]120 KM'!AF3","v":"01:03:38"},null,{"$f":"'[1]120 KM'!AL3","v":13.655761024182073},{"$f":"'[1]120 KM'!AM3","v":"01:45:27"},null,null,null,null,null,null,null,null,"17;88","06:36:00"]
[3,"R",null,null,10055573,"NICOLA","THORNE","103JI65","LM BOLENA",null,null,null,null,"GBR",null,{"$f":"'[1]120 KM'!J4","v":20.367751060820357},{"$f":"'[1]120 KM'!K4","v":"01:34:16"},null,{"$f":"'[1]120 KM'!Q4","v":19.052924791086358},{"$f":"'[1]120 KM'!R4","v":"00:59:50"},null,{"$f":"'[1]120 KM'!X4","v":14.751579306812346},{"$f":"'[1]120 KM'!Y4","v":"01:37:37"},null,{"$f":"'[1]120 KM'!AE4","v":16.826568265682688},{"$f":"'[1]120 KM'!AF4","v":"01:07:45"},null,{"$f":"'[1]120 KM'!AL4","v":14.646550262756405},{"$f":"'[1]120 KM'!AM4","v":"01:38:19"},null,null,null,null,null,null,null,null,16.95,"06:57:47"]
[4,"R",null,null,10081040,"LEONARDO","GUERRI","103RQ02","JC RELICARIO",null,null,null,null,"ARG",null,{"$f":"'[1]120 KM'!J5","v":20.782969511095072},{"$f":"'[1]120 KM'!K5","v":"01:32:23"},null,{"$f":"'[1]120 KM'!Q5","v":16.951672862453524},{"$f":"'[1]120 KM'!R5","v":"01:07:15"},null,{"$f":"'[1]120 KM'!X5","v":15.115465360391886},{"$f":"'[1]120 KM'!Y5","v":"01:35:16"},null,{"$f":"'[1]120 KM'!AE5","v":15.203378528561913},{"$f":"'[1]120 KM'!AF5","v":"01:14:59"},null,{"$f":"'[1]120 KM'!AL5","v":13.523243074033488},{"$f":"'[1]120 KM'!AM5","v":"01:46:29"},null,null,null,null,null,null,null,null,16.22,"07:16:22"]
[5,"R",null,null,10074304,"RAMIRO","PUEBLAS","103TY26","LT CALFUCO",null,null,null,null,"ARG",null,{"$f":"'[1]120 KM'!J6","v":22.094361334867646},{"$f":"'[1]120 KM'!K6","v":"01:26:54"},null,{"$f":"'[1]120 KM'!Q6","v":19.734564339296035},{"$f":"'[1]120 KM'!R6","v":"00:57:46"},null,{"$f":"'[1]120 KM'!X6","v":13.516896120150186},{"$f":"'[1]120 KM'!Y6","v":"01:46:32"},null,{"$f":"'[1]120 KM'!AE6","v":15.415821501014221},{"$f":"'[1]120 KM'!AF6","v":"01:13:57"},null,{"$f":"'[1]120 KM'!AL6","v":12.19133624947086},{"$f":"'[1]120 KM'!AM6","v":"01:58:07"},null,null,null,null,null,null,null,null,15.98,"07:23:11"]
[6,"R",null,null,10014086,"CARLOS ARIEL","LARRERE","103ZK62","MI SERRANO",null,null,null,null,"ARG",null,{"$f":"'[1]120 KM'!J7","v":21.984732824427475},{"$f":"'[1]120 KM'!K7","v":"01:27:20"},null,{"$f":"'[1]120 KM'!Q7","v":20.117647058823525},{"$f":"'[1]120 KM'!R7","v":"00:56:40"},null,{"$f":"'[1]120 KM'!X7","v":13.612730423822274},{"$f":"'[1]120 KM'!Y7","v":"01:45:47"},null,{"$f":"'[1]120 KM'!AE7","v":16.262482168330973},{"$f":"'[1]120 KM'!AF7","v":"01:10:06"},null,{"$f":"'[1]120 KM'!AL7","v":11.419508326724817},{"$f":"'[1]120 KM'!AM7","v":"02:06:06"},null,null,null,null,null,null,null,null,15.88,"07:25:59"]
[7,"R",null,null,10075902,"FELIX","GOMEZ","103OL77","Z RANCHERO",null,null,null,null,"ARG",null,{"$f":"'[1]120 KM'!J8","v":17.3572397167395},{"$f":"'[1]120 KM'!K8","v":"01:50:37"},null,{"$f":"'[1]120 KM'!Q8","v":15.506687825889836},{"$f":"'[1]120 KM'!R8","v":"01:13:31"},null,{"$f":"'[1]120 KM'!X8","v":14.361702127659584},{"$f":"'[1]120 KM'!Y8","v":"01:40:16"},null,{"$f":"'[1]120 KM'!AE8","v":18.29855537720702},{"$f":"'[1]120 KM'!AF8","v":"01:02:18"},null,{"$f":"'[1]120 KM'!AL8","v":13.22314049586776},{"$f":"'[1]120 KM'!AM8","v":"01:48:54"},null,null,null,null,null,null,null,null,15.52,"07:36:06"]
[8,"R",null,null,10032437,"ROXANA","TAGLIAFERRO","102ZP59","CAL FUSYR SU",null,null,null,null,"ARG",null,{"$f":"'[1]120 KM'!J9","v":18.250950570342198},{"$f":"'[1]120 KM'!K9","v":"01:45:12"},null,{"$f":"'[1]120 KM'!Q9","v":14.637277979884445},{"$f":"'[1]120 KM'!R9","v":"01:17:53"},null,{"$f":"'[1]120 KM'!X9","v":13.662239089184057},{"$f":"'[1]120 KM'!Y9","v":"01:45:24"},null,{"$f":"'[1]120 KM'!AE9","v":13.688212927756659},{"$f":"'[1]120 KM'!AF9","v":"01:23:17"},null,{"$f":"'[1]120 KM'!AL9","v":13.267813267813258},{"$f":"'[1]120 KM'!AM9","v":"01:48:32"},null,null,null,null,null,null,null,null,14.74,"08:00:18"]
[9,"R",null,null,10018403,"FRANCO ALEJANDRO","CUZZANI","103HI67","LM CARNITINA",null,null,null,null,"ARG",null,{"$f":"'[1]120 KM'!J10","v":18.317697567180787},{"$f":"'[1]120 KM'!K10","v":"01:44:49"},null,{"$f":"'[1]120 KM'!Q10","v":14.76365206129937},{"$f":"'[1]120 KM'!R10","v":"01:17:13"},null,{"$f":"'[1]120 KM'!X10","v":13.595594020456327},{"$f":"'[1]120 KM'!Y10","v":"01:45:55"},null,{"$f":"'[1]120 KM'!AE10","v":13.976297507151632},{"$f":"'[1]120 KM'!AF10","v":"01:21:34"},null,{"$f":"'[1]120 KM'!AL10","v":12.986622576281382},{"$f":"'[1]120 KM'!AM10","v":"01:50:53"},null,null,null,null,null,null,null,null,14.74,"08:00:24"]
[10,"R",null,null,10018008,"NUBER","PACHON CARDOZO","103XG84","BOSQUE SPA",null,null,null,null,"ARG",null,{"$f":"'[1]120 KM'!J11","v":19.591836734693882},{"$f":"'[1]120 KM'!K11","v":"01:38:00"},null,{"$f":"'[1]120 KM'!Q11","v":16.731898238747558},{"$f":"'[1]120 KM'!R11","v":"01:08:08"},null,{"$f":"'[1]120 KM'!X11","v":13.647133154320015},{"$f":"'[1]120 KM'!Y11","v":"01:45:31"},null,{"$f":"'[1]120 KM'!AE11","v":13.507109004739323},{"$f":"'[1]120 KM'!AF11","v":"01:24:24"},null,{"$f":"'[1]120 KM'!AL11","v":8.8262335274287409},{"$f":"'[1]120 KM'!AM11","v":"02:43:09"},null,null,null,null,null,null,null,null,13.64,"08:39:12"]
[11,"R",null,null,10072414,"ALEJANDRO ISAIAS","ABELENDA","104DP13","RS NUBE BLANCA",null,null,null,null,"ARG",null,{"$f":"'[1]120 KM'!J12","v":14.418022528160195},{"$f":"'[1]120 KM'!K12","v":"02:13:10"},null,{"$f":"'[1]120 KM'!Q12","v":13.804238143289616},{"$f":"'[1]120 KM'!R12","v":"01:22:35"},null,{"$f":"'[1]120 KM'!X12","v":11.530762044574931},{"$f":"'[1]120 KM'!Y12","v":"02:04:53"},null,{"$f":"'[1]120 KM'!AE12","v":14.403032217308924},{"$f":"'[1]120 KM'!AF12","v":"01:19:09"},null,{"$f":"'[1]120 KM'!AL12","v":13.608442274373934},{"$f":"'[1]120 KM'!AM12","v":"01:45:49"},null,null,null,null,null,null,null,null,13.47,"08:45:36"]
[12,"R",null,null,10066794,"HARKEN","JENSEN","103TZ83","MI LONGA",null,null,null,null,"CHI",null,{"$f":"'[1]120 KM'!J13","v":14.434281418368631},{"$f":"'[1]120 KM'!K13","v":"02:13:01"},null,{"$f":"'[1]120 KM'!Q13","v":13.832153690596583},{"$f":"'[1]120 KM'!R13","v":"01:22:25"},null,{"$f":"'[1]120 KM'!X13","v":11.626968106580538},{"$f":"'[1]120 KM'!Y13","v":"02:03:51"},null,{"$f":"'[1]120 KM'!AE13","v":13.919413919413918},{"$f":"'[1]120 KM'!AF13","v":"01:21:54"},null,{"$f":"'[1]120 KM'!AL13","v":13.775510204081643},{"$f":"'[1]120 KM'!AM13","v":"01:44:32"},null,null,null,null,null,null,null,null,13.47,"08:45:43"]
[null,"EL",null,null,10105459,"DIEGO","FIGUEROLA","104GZ12","AMPARO",null,null,null,null,"ARG",null,{"$f":"'[1]120 KM'!J14","v":20.645161290322566},{"$f":"'[1]120 KM'!K14","v":"01:33:00"},"FQLA"]
[null,"EL",null,null,10081909,"JORGE","PERUZOTTI","103PN61","MORO PIRQUE",null,null,null,null,"ARG",null,{"$f":"'[1]120 KM'!J15","v":20.129302813209854},{"$f":"'[1]120 KM'!K15","v":"01:35:23"},null,{"$f":"'[1]120 KM'!Q15","v":18.915929203539815},{"$f":"'[1]120 KM'!R15","v":"01:00:16"},"FQLA"]
[null,"EL",null,null,10090874,"GUILLERMO","LEGUIZAMON","103GK28","JC CELINA",null,null,null,null,"ARG",null,{"$f":"'[1]120 KM'!J16","v":22.222222222222225},{"$f":"'[1]120 KM'!K16","v":"01:26:24"},null,{"$f":"'[1]120 KM'!Q16","v":20.332936979785998},{"$f":"'[1]120 KM'!R16","v":"00:56:04"},null,{"$f":"'[1]120 KM'!X16","v":16.653816499614475},{"$f":"'[1]120 KM'!Y16","v":"01:26:28"},"FQLA"]
[null,"EL",null,null,10019703,"MARIANO","THILL","103MV09","EL CHISPAZO DEL CABILDO",null,null,null,null,"ARG",null,{"$f":"'[1]120 KM'!J17","v":20.425531914893618},{"$f":"'[1]120 KM'!K17","v":"01:34:00"},null,{"$f":"'[1]120 KM'!Q17","v":18.931635759756407},{"$f":"'[1]120 KM'!R17","v":"01:00:13"},null,{"$f":"'[1]120 KM'!X17","v":15.110178384050375},{"$f":"'[1]120 KM'!Y17","v":"01:35:18"},"FQLA"]
[null,"EL",null,null,10025742,"MARIANELA SOLEDAD","MENDEZ","103TY25","LT KALEN",null,null,null,null,"ARG",null,{"$f":"'[1]120 KM'!J18","v":20.824295010845983},{"$f":"'[1]120 KM'!K18","v":"01:32:12"},null,{"$f":"'[1]120 KM'!Q18","v":18.491484184914828},{"$f":"'[1]120 KM'!R18","v":"01:01:39"},null,{"$f":"'[1]120 KM'!X18","v":14.853017019082007},{"$f":"'[1]120 KM'!Y18","v":"01:36:57"},null,{"$f":"'[1]120 KM'!AE18","v":15.261044176706825},{"$f":"'[1]120 KM'!AF18","v":"01:14:42"},"FQLA"]
[null,"WD",null,null,10044804,"MATIAS","PERES COPELLO","102VB72","AL MILONGUERO",null,null,null,null,"ARG"]
[null,"WD",null,null,10054844,"SILVINA","FORTUNA","104DQ37","PIQUILLIN",null,null,null,null,"ARG"]
[null,"WD",null,null,10071875,"SOFIA","DELGADO","103UJ62","MO JADE",null,null,null,null,"ARG"]
[null,"WD",null,null,10091248,"FELICITAS","DE ACHAVAL","103TG88","MORA INOCENTE",null,null,null,null,"ARG"]
[null,"WD",null,null,10010527,"MIGUEL","PAVLOVSKY","103FH00","MORO VALIENTE",null,null,null,null,"ARG"]

{"sheet":"80 KM YR","index":2,"n_rows":22,"n_cols":39,"rows_kept":22,"cut":false,"hidden":false,"merged":[]}
["ns1:Position","ns1:PosStatus","ns1:PosStatusComplement","ns1:PosStatusComplementData","ns1:CompetitorFEIID","ns1:CompetitorFirstname","ns1:CompetitorFamilyname","ns1:HorseFEIID","ns1:HorseCompleteName","ns1:Prize","ns1:PrizeCurrency","ns1:IsWNominated","ns1:TeamNF","ns1:CompetingFor","ns1:First Vet Inspection Elimination Code","ns1:AvgSpeed1","ns1:RideTime1","ns1:Vet Gat eElim Code1","ns1:AvgSpeed2","ns1:RideTime2","ns1:VetGateElimCode2","ns1:AvgSpeed3","ns1:RideTime3","ns1:VetGateElimCode3","ns1:AvgSpeed4","ns1:RideTime4","ns1:VetGateElimCode4","ns1:AvgSpeed5","ns1:RideTime5","ns1:VetGateElimCode5","ns1:AvgSpeed6","ns1:RideTime6","ns1:VetGateElimCode6","ns1:AvgSpeed7","ns1:RideTime7","ns1:VetFinalInspElimCode","ns1:BestCondition","ns1:TotalAvgSpeed","ns1:TotalTime"]
[]
[1,"R",null,null,10105218," LUCIANA","SIMONCELLI","104GX62","AMIRA IP",null,null,null,null,"ARG",null,{"$f":"'[1]80 KM'!I62","v":24.516841524019853},{"$f":"'[1]80 KM'!J62","v":"01:30:33"},null,{"$f":"'[1]80 KM'!P62","v":19.350503919372926},{"$f":"'[1]80 KM'!Q62","v":"01:14:25"},null,{"$f":"'[1]80 KM'!W62","v":29.268292682926937},{"$f":"'[1]80 KM'!X62","v":"00:38:57"},null,null,null,null,null,null,null,null,null,null,null,null,null,null,{"$f":"'[1]80 KM'!AD62","v":24.378546042106574},{"$f":"'[1]80 KM'!AE62","v":"03:23:55"}]
[2,"R",null,null,10107705,"PATRICIO","SKANCI","104KL19","FJ POWER",null,null,null,null,"ARG",null,{"$f":"'[1]80 KM'!I63","v":24.134807030259097},{"$f":"'[1]80 KM'!J63","v":"01:31:59"},null,{"$f":"'[1]80 KM'!P63","v":19.784749255782},{"$f":"'[1]80 KM'!Q63","v":"01:12:47"},null,{"$f":"'[1]80 KM'!W63","v":29.118773946360239},{"$f":"'[1]80 KM'!X63","v":"00:39:09"},null,null,null,null,null,null,null,null,null,null,null,null,null,null,{"$f":"'[1]80 KM'!AD63","v":24.346110077467113},{"$f":"'[1]80 KM'!AE63","v":"03:23:55"}]
[3,"R",null,null,10036991,"MILENA","MENDEZ","104JY27","LT HANKA",null,null,null,null,"ARG",null,{"$f":"'[1]80 KM'!I64","v":23.71372618835677},{"$f":"'[1]80 KM'!J64","v":"01:33:37"},null,{"$f":"'[1]80 KM'!P64","v":19.600725952813068},{"$f":"'[1]80 KM'!Q64","v":"01:13:28"},null,{"$f":"'[1]80 KM'!W64","v":23.304940374787094},{"$f":"'[1]80 KM'!X64","v":"00:48:55"},null,null,null,null,null,null,null,null,null,null,null,null,null,null,{"$f":"'[1]80 KM'!AD64","v":22.206464171985644},{"$f":"'[1]80 KM'!AE64","v":"03:36:00"}]
[4,"R",null,null,10097055,"JUAN CRUZ","WEHBE","104JH91","JC CAMPERITO",null,null,null,null,"ARG",null,{"$f":"'[1]80 KM'!I66","v":23.633782824698361},{"$f":"'[1]80 KM'!J66","v":"01:33:56"},null,{"$f":"'[1]80 KM'!P66","v":16.570771001150764},{"$f":"'[1]80 KM'!Q66","v":"01:26:54"},null,{"$f":"'[1]80 KM'!W66","v":19.267605633802788},{"$f":"'[1]80 KM'!X66","v":"00:59:10"},null,null,null,null,null,null,null,null,null,null,null,null,null,null,{"$f":"'[1]80 KM'!AD66","v":19.824053153217303},{"$f":"'[1]80 KM'!AE66","v":"04:00:00"}]
[5,"R",null,null,10102355,"NICOLAS","MARGARIT","104KL97","DIVINA",null,null,null,null,"ARG",null,{"$f":"'[1]80 KM'!I67","v":23.500352858151022},{"$f":"'[1]80 KM'!J67","v":"01:34:28"},null,{"$f":"'[1]80 KM'!P67","v":15.281216837637071},{"$f":"'[1]80 KM'!Q67","v":"01:34:14"},null,{"$f":"'[1]80 KM'!W67","v":17.729393468118204},{"$f":"'[1]80 KM'!X67","v":"01:04:18"},null,null,null,null,null,null,null,null,null,null,null,null,null,null,{"$f":"'[1]80 KM'!AD67","v":18.836987721302098},{"$f":"'[1]80 KM'!AE67","v":"04:13:00"}]
[6,"R",null,null,10083644,"JOSEFINA","ROLT","104DU70","FJ FLAME",null,null,null,null,"ARG",null,{"$f":"'[1]80 KM'!I68","v":23.409490333919152},{"$f":"'[1]80 KM'!J68","v":"01:34:50"},null,{"$f":"'[1]80 KM'!P68","v":15.028700643590192},{"$f":"'[1]80 KM'!Q68","v":"01:35:49"},null,{"$f":"'[1]80 KM'!W68","v":16.678858814923196},{"$f":"'[1]80 KM'!X68","v":"01:08:21"},null,null,null,null,null,null,null,null,null,null,null,null,null,null,{"$f":"'[1]80 KM'!AD68","v":18.372349930810845},{"$f":"'[1]80 KM'!AE68","v":"04:19:00"}]
[7,"R",null,null,10066438,"FEDERICA","ROSSI","104KO61","AR BOMBIN",null,null,null,null,"ARG",null,{"$f":"'[1]80 KM'!I69","v":21.318822023047368},{"$f":"'[1]80 KM'!J69","v":"01:44:08"},null,{"$f":"'[1]80 KM'!P69","v":15.246161990471153},{"$f":"'[1]80 KM'!Q69","v":"01:34:27"},null,{"$f":"'[1]80 KM'!W69","v":17.426751592356705},{"$f":"'[1]80 KM'!X69","v":"01:05:25"},null,null,null,null,null,null,null,null,null,null,null,null,null,null,{"$f":"'[1]80 KM'!AD69","v":17.997245201958407},{"$f":"'[1]80 KM'!AE69","v":"04:24:00"}]
[8,"R",null,null,10073758,"JUAN PABLO","MAGONE","104KD79","ZT ASSBECTRA",null,null,null,null,"ARG",null,{"$f":"'[1]80 KM'!I71","v":21.085958524616103},{"$f":"'[1]80 KM'!J71","v":"01:45:17"},null,{"$f":"'[1]80 KM'!P71","v":13.389121338912132},{"$f":"'[1]80 KM'!Q71","v":"01:47:33"},null,{"$f":"'[1]80 KM'!W71","v":15.580865603644641},{"$f":"'[1]80 KM'!X71","v":"01:13:10"},null,null,null,null,null,null,null,null,null,null,null,null,null,null,{"$f":"'[1]80 KM'!AD71","v":16.685315155724293},{"$f":"'[1]80 KM'!AE71","v":"04:46:00"}]
[9,"R",null,null,10056199,"PATRICIO","PITA","103WU41","MM TANGO",null,null,null,null,"ARG",null,{"$f":"'[1]80 KM'!I72","v":22.703255496846772},{"$f":"'[1]80 KM'!J72","v":"01:37:47"},null,{"$f":"'[1]80 KM'!P72","v":12.284942414332438},{"$f":"'[1]80 KM'!Q72","v":"01:57:13"},null,{"$f":"'[1]80 KM'!W72","v":14.448669201520907},{"$f":"'[1]80 KM'!X72","v":"01:18:54"},null,null,null,null,null,null,null,null,null,null,null,null,null,null,{"$f":"'[1]80 KM'!AD72","v":16.478955704233375},{"$f":"'[1]80 KM'!AE72","v":"04:53:54"}]
[10,"R",null,null,10102346,"JOSEFINA","BALLESTER MOLINA","104KE42","HM MAGUIR",null,null,null,null,"ARG",null,{"$f":"'[1]80 KM'!I73","v":18.598156939402394},{"$f":"'[1]80 KM'!J73","v":"01:59:22"},null,{"$f":"'[1]80 KM'!P73","v":12.822796081923403},{"$f":"'[1]80 KM'!Q73","v":"01:52:18"},null,{"$f":"'[1]80 KM'!W73","v":15.98130841121495},{"$f":"'[1]80 KM'!X73","v":"01:11:20"},null,null,null,null,null,null,null,null,null,null,null,null,null,null,{"$f":"'[1]80 KM'!AD73","v":15.800753810846915},{"$f":"'[1]80 KM'!AE73","v":"05:03:00"}]
[11,"R",null,null,10081798,"JAVIER","PERUZOTTI","ARG40554","IVAN KA",null,null,null,null,"ARG",null,{"$f":"'[1]80 KM'!I74","v":18.196721311475404},{"$f":"'[1]80 KM'!J74","v":"02:02:00"},null,{"$f":"'[1]80 KM'!P74","v":14.295168762408981},{"$f":"'[1]80 KM'!Q74","v":"01:40:44"},null,{"$f":"'[1]80 KM'!W74","v":13.026090268520276},{"$f":"'[1]80 KM'!X74","v":"01:27:31"},null,null,null,null,null,null,null,null,null,null,null,null,null,null,{"$f":"'[1]80 KM'!AD74","v":15.172660114134887},{"$f":"'[1]80 KM'!AE74","v":"05:10:15"}]
[12,"R",null,null,10083484,"ESTANISLAO","RUEDA","104KP86","SANDRO",null,null,null,null,"ARG",null,{"$f":"'[1]80 KM'!I75","v":13.784538963054953},{"$f":"'[1]80 KM'!J75","v":"02:41:03"},null,12.52,"01:55:00",null,13.1,"01:28:00",null,null,null,null,null,null,null,null,null,null,null,null,null,null,13.18,"06:04:00"]
[13,"R",null,null,10100913,"CAMILA","BILBAO","104JF57","EL FAROLITO PP",null,null,null,null,"ARG",null,13.78,"02:41:04",null,{"$f":"'[1]80 KM'!P76","v":12.777284826974265},{"$f":"'[1]80 KM'!Q76","v":"01:52:42"},null,13.1,"01:28:01",null,null,null,null,null,null,null,null,null,null,null,null,null,null,13.18,"06:04:01"]
[14,"R",null,null,10074622,"SANTINA","ZUNINO","102ZL97","AR CIBELES MENFER",null,null,null,null,"ARG",null,13.78,"02:41:05",null,12.78,"01:52:44",null,13.1,"01:28:02",null,null,null,null,null,null,null,null,null,null,null,null,null,null,13.18,"06:04:02"]
[15,"R",null,null,10105693,"NICOLAS OCTAVIO","NIETO","104KR26","EMBRUJO AG",null,null,null,null,"ARG",null,13.78,"02:41:07",null,12.78,"01:52:47",null,13.1,"01:28:04",null,null,null,null,null,null,null,null,null,null,null,null,null,null,13.18,"06:04:04"]
[null,"RET",null,null,10109071,"ANTONELLA","GOMEZ","104KL07","GC MAFIOSO",null,null,null,null,"ARG",null,{"$f":"'[1]80 KM'!I80","v":16.818181818181817},{"$f":"'[1]80 KM'!J80","v":"02:12:00"},null,{"$f":"'[1]80 KM'!P80","v":7.5531077891424072},{"$f":"'[1]80 KM'!Q80","v":"03:10:39"},"RET"]
[null,"RET",null,null,10105507,"BARBARA","CASTRO","104KL08","GC PLATON",null,null,null,null,"ARG",null,{"$f":"'[1]80 KM'!I81","v":18.051226453448972},{"$f":"'[1]80 KM'!J81","v":"02:02:59"},null,{"$f":"'[1]80 KM'!P81","v":7.5564107049151623},{"$f":"'[1]80 KM'!Q81","v":"03:10:34"},"RET"]
[null,"EL",null,null,10109073,"FEDERICO","RUIZ","104DS72","HCE MAGCUBANO",null,null,null,null,"ARG",null,{"$f":"'[1]80 KM'!I82","v":18.221614227086182},{"$f":"'[1]80 KM'!J82","v":"02:01:50"},null,{"$f":"'[1]80 KM'!P82","v":14.376039933444257},{"$f":"'[1]80 KM'!Q82","v":"01:40:10"},"FQLA"]
[null,"EL",null,null,10102272,"NADIA","FERNANDEZ CID","104KL10","ROMANA FG",null,null,null,null,"ARG",null,{"$f":"'[1]80 KM'!I83","v":20.940103757270865},{"$f":"'[1]80 KM'!J83","v":"01:46:01"},null,{"$f":"'[1]80 KM'!P83","v":13.443286136611162},{"$f":"'[1]80 KM'!Q83","v":"01:47:07"},null,{"$f":"'[1]80 KM'!W83","v":14.63414634146341},{"$f":"'[1]80 KM'!X83","v":"01:17:54"},"FQME"]
[null,"EL",null,null,10109075,"FRANCISCO","SELLART","104DD69","MC FLY",null,null,null,null,"ARG",null,{"$f":"'[1]80 KM'!I84","v":23.442449841605065},{"$f":"'[1]80 KM'!J84","v":"01:34:42"},null,{"$f":"'[1]80 KM'!P84","v":18.075313807531341},{"$f":"'[1]80 KM'!Q84","v":"01:19:40"},null,{"$f":"'[1]80 KM'!W84","v":23.916083916083895},{"$f":"'[1]80 KM'!X84","v":"00:47:40"},"FQLA"]

{"sheet":"80 KM MAY","index":3,"n_rows":57,"n_cols":39,"rows_kept":57,"cut":false,"hidden":false,"merged":[]}
["ns1:Position","ns1:PosStatus","ns1:PosStatusComplement","ns1:PosStatusComplementData","ns1:CompetitorFEIID","ns1:CompetitorFirstname","ns1:CompetitorFamilyname","ns1:HorseFEIID","ns1:HorseCompleteName","ns1:Prize","ns1:PrizeCurrency","ns1:IsWNominated","ns1:TeamNF","ns1:CompetingFor","ns1:First Vet Inspection Elimination Code","ns1:AvgSpeed1","ns1:RideTime1","ns1:Vet Gat eElim Code1","ns1:AvgSpeed2","ns1:RideTime2","ns1:VetGateElimCode2","ns1:AvgSpeed3","ns1:RideTime3","ns1:VetGateElimCode3","ns1:AvgSpeed4","ns1:RideTime4","ns1:VetGateElimCode4","ns1:AvgSpeed5","ns1:RideTime5","ns1:VetGateElimCode5","ns1:AvgSpeed6","ns1:RideTime6","ns1:VetGateElimCode6","ns1:AvgSpeed7","ns1:RideTime7","ns1:VetFinalInspElimCode","ns1:BestCondition","ns1:TotalAvgSpeed","ns1:TotalTime"]
[]
[1,"R",null,null,10017979,"RUBEN","CORREA","104BW27","RO CENTURION",null,null,null,null,"ARG",null,{"$f":"'[1]80 KM'!I2","v":26.99088145896657},"01:22:15",null,{"$f":"'[1]80 KM'!P2","v":19.27280838724068},{"$f":"'[1]80 KM'!Q2","v":"01:14:43"},null,{"$f":"'[1]80 KM'!W2","v":25.314581791265784},{"$f":"'[1]80 KM'!X2","v":"00:45:02"},null,null,null,null,null,null,null,null,null,null,null,null,null,"TRUE",{"$f":"'[1]80 KM'!AD2","v":23.859423879157678},{"$f":"'[1]80 KM'!AE2","v":"03:22:00"}]
[2,"R",null,null,10074304,"RAMIRO","PUEBLAS","104JY26","LT SILENCIO",null,null,null,null,"ARG",null,{"$f":"'[1]80 KM'!I3","v":26.533864541832695},"01:23:40",null,{"$f":"'[1]80 KM'!P3","v":19.463843207929706},{"$f":"'[1]80 KM'!Q3","v":"01:13:59"},null,{"$f":"'[1]80 KM'!W3","v":24.07602956705383},{"$f":"'[1]80 KM'!X3","v":"00:47:21"},null,null,null,null,null,null,null,null,null,null,null,null,null,null,{"$f":"'[1]80 KM'!AD3","v":23.35791243893874},{"$f":"'[1]80 KM'!AE3","v":"03:25:00"}]
[3,"R",null,null,10039535,"GRISELDA","CONRAD","ARG40986","ZT FAJOLIE",null,null,null,null,"ARG",null,{"$f":"'[1]80 KM'!I4","v":24.712430426716153},"01:29:50",null,{"$f":"'[1]80 KM'!P4","v":18.608658195132456},{"$f":"'[1]80 KM'!Q4","v":"01:17:23"},null,{"$f":"'[1]80 KM'!W4","v":22.014805278403607},{"$f":"'[1]80 KM'!X4","v":"00:51:47"},null,null,null,null,null,null,null,null,null,null,null,null,null,null,{"$f":"'[1]80 KM'!AD4","v":21.778631300084072},{"$f":"'[1]80 KM'!AE4","v":"03:39:00"}]
[4,"R",null,null,10078280,"DIEGO","MORGADO","104KN51","AM BENJAMIN",null,null,null,null,"ARG",null,{"$f":"'[1]80 KM'!I5","v":26.640000000000008},"01:23:20",null,{"$f":"'[1]80 KM'!P5","v":17.869700103412626},{"$f":"'[1]80 KM'!Q5","v":"01:20:35"},null,{"$f":"'[1]80 KM'!W5","v":19.626972740315633},{"$f":"'[1]80 KM'!X5","v":"00:58:05"},null,null,null,null,null,null,null,null,null,null,null,null,null,null,{"$f":"'[1]80 KM'!AD5","v":21.378890947909422},{"$f":"'[1]80 KM'!AE5","v":"03:42:00"}]
[5,"R",null,null,10105458,"CEFERINO","GONZALEZ","104GZ11","HV CHAIRUS",null,null,null,null,"ARG",null,{"$f":"'[1]80 KM'!I6","v":25.808951753536146},"01:26:01",null,{"$f":"'[1]80 KM'!P6","v":17.197452229299355},{"$f":"'[1]80 KM'!Q6","v":"01:23:44"},null,{"$f":"'[1]80 KM'!W6","v":21.013824884792623},{"$f":"'[1]80 KM'!X6","v":"00:54:15"},null,null,null,null,null,null,null,null,null,null,null,null,null,null,{"$f":"'[1]80 KM'!AD6","v":21.340076289209374},{"$f":"'[1]80 KM'!AE6","v":"03:44:00"}]
[6,"R",null,null,10017972,"PABLO","DE LOS HEROS","103CA29","MORO EXTREMO",null,null,null,null,"ARG",null,{"$f":"'[1]80 KM'!I7","v":27.018255578093331},"01:22:10",null,{"$f":"'[1]80 KM'!P7","v":15.709090909090916},{"$f":"'[1]80 KM'!Q7","v":"01:31:40"},null,{"$f":"'[1]80 KM'!W7","v":20.664652567975853},{"$f":"'[1]80 KM'!X7","v":"00:55:10"},null,null,null,null,null,null,null,null,null,null,null,null,null,null,{"$f":"'[1]80 KM'!AD7","v":21.130666351720034},{"$f":"'[1]80 KM'!AE7","v":"03:49:00"}]
[7,"R",null,null,10014086,"ARIEL","LARRERE","103ZK61","HERMOSA",null,null,null,null,"ARG",null,{"$f":"'[1]80 KM'!I8","v":23.368421052631586},"01:35:00",null,{"$f":"'[1]80 KM'!P8","v":16.277317256970619},{"$f":"'[1]80 KM'!Q8","v":"01:28:28"},null,{"$f":"'[1]80 KM'!W8","v":17.395727365208572},{"$f":"'[1]80 KM'!X8","v":"01:05:32"},null,null,null,null,null,null,null,null,null,null,null,null,null,null,{"$f":"'[1]80 KM'!AD8","v":19.013821891603595},{"$f":"'[1]80 KM'!AE8","v":"04:09:00"}]
[8,"R",null,null,10072478,"FABIAN","ARAMBUENA","104DS74","QABALA HLT",null,null,null,null,"ARG",null,{"$f":"'[1]80 KM'!I9","v":21.987454605480359},"01:40:58",null,{"$f":"'[1]80 KM'!P9","v":15.867768595041314},{"$f":"'[1]80 KM'!Q9","v":"01:30:45"},null,{"$f":"'[1]80 KM'!W9","v":18.303451966818294},{"$f":"'[1]80 KM'!X9","v":"01:02:17"},null,null,null,null,null,null,null,null,null,null,null,null,null,null,{"$f":"'[1]80 KM'!AD9","v":18.71955838911332},{"$f":"'[1]80 KM'!AE9","v":"04:14:00"}]
[9,"R",null,null,10092604,"ALVARO","CAMINERO","104KG41","SCHE AL HEWIN",null,null,null,null,"ARG",null,{"$f":"'[1]80 KM'!I10","v":25.419847328244284},"01:27:20",null,{"$f":"'[1]80 KM'!P10","v":18.2741116751269},{"$f":"'[1]80 KM'!Q10","v":"01:18:48"},null,{"$f":"'[1]80 KM'!W10","v":11.891515994436711},{"$f":"'[1]80 KM'!X10","v":"01:35:52"},null,null,null,null,null,null,null,null,null,null,null,null,null,null,{"$f":"'[1]80 KM'!AD10","v":18.528491665935963},{"$f":"'[1]80 KM'!AE10","v":"04:22:00"}]
[10,"R",null,null,10092968,"ELBIO ALBERTO","GOMEZ","104KO51","GITANO AG",null,null,null,null,"ARG",null,{"$f":"'[1]80 KM'!I11","v":21.414790996784564},"01:43:40",null,{"$f":"'[1]80 KM'!P11","v":14.426448488896304},{"$f":"'[1]80 KM'!Q11","v":"01:39:49"},null,{"$f":"'[1]80 KM'!W11","v":19.470538001707983},{"$f":"'[1]80 KM'!X11","v":"00:58:33"},null,null,null,null,null,null,null,null,null,null,null,null,null,null,{"$f":"'[1]80 KM'!AD11","v":18.437259162462951},{"$f":"'[1]80 KM'!AE11","v":"04:22:02"}]
[11,"R",null,null,10014771,"LAYLA","AL REHDA","104KL95","CHAPA GAUCHO",null,null,null,null,"UAE",null,{"$f":"'[1]80 KM'!I12","v":22.424242424242436},"01:39:00",null,{"$f":"'[1]80 KM'!P12","v":13.841717398269774},{"$f":"'[1]80 KM'!Q12","v":"01:44:02"},null,{"$f":"'[1]80 KM'!W12","v":16.529724504591584},{"$f":"'[1]80 KM'!X12","v":"01:08:58"},null,null,null,null,null,null,null,null,null,null,null,null,null,null,{"$f":"'[1]80 KM'!AD12","v":17.598561442367931},{"$f":"'[1]80 KM'!AE12","v":"04:32:00"}]
[12,"R",null,null,10014100,"IGNACIO","RODRIGUEZ ZAMBONI","104JF51","MG COSITA",null,null,null,null,"ARG",null,{"$f":"'[1]80 KM'!I13","v":22.918100481761876},"01:36:52",null,{"$f":"'[1]80 KM'!P13","v":13.548690606868416},{"$f":"'[1]80 KM'!Q13","v":"01:46:17"},null,{"$f":"'[1]80 KM'!W13","v":16.549721751754149},{"$f":"'[1]80 KM'!X13","v":"01:08:53"},null,null,null,null,null,null,null,null,null,null,null,null,null,null,17.600000000000001,{"$f":"'[1]80 KM'!AE13","v":"04:32:02"}]
[13,"R",null,null,10014098,"FRANCISCO","FERNANDEZ","103EU04","CG FORMANA",null,null,null,null,"ARG",null,{"$f":"'[1]80 KM'!I14","v":20.848333072468325},"01:46:29",null,{"$f":"'[1]80 KM'!P14","v":13.399503722084372},{"$f":"'[1]80 KM'!Q14","v":"01:47:28"},null,{"$f":"'[1]80 KM'!W14","v":14.990138067061164},{"$f":"'[1]80 KM'!X14","v":"01:16:03"},null,null,null,null,null,null,null,null,null,null,null,null,null,null,{"$f":"'[1]80 KM'!AD14","v":16.412658287204621},{"$f":"'[1]80 KM'!AE14","v":"04:50:00"}]
[14,"R",null,null,10075902,"FELIX","GOMEZ","104KL11","CF ANGELUS",null,null,null,null,"ARG",null,{"$f":"'[1]80 KM'!I15","v":19.768477292965276},"01:52:18",null,{"$f":"'[1]80 KM'!P15","v":12.864800476474105},{"$f":"'[1]80 KM'!Q15","v":"01:51:56"},null,{"$f":"'[1]80 KM'!W15","v":17.074388417373939},{"$f":"'[1]80 KM'!X15","v":"01:06:46"},null,null,null,null,null,null,null,null,null,null,null,null,null,null,16.399999999999999,{"$f":"'[1]80 KM'!AE15","v":"04:51:00"}]
[15,"R",null,null,10108768,"CESAR","ALFONSO","104KF68","CF CASUALIDAD",null,null,null,null,"ARG",null,{"$f":"'[1]80 KM'!I16","v":18.987883107626516},"01:56:55",null,{"$f":"'[1]80 KM'!P16","v":13.02185380557648},{"$f":"'[1]80 KM'!Q16","v":"01:50:35"},null,{"$f":"'[1]80 KM'!W16","v":17.929226736566207},{"$f":"'[1]80 KM'!X16","v":"01:03:35"},null,null,null,null,null,null,null,null,null,null,null,null,null,null,16.399999999999999,{"$f":"'[1]80 KM'!AE16","v":"04:51:05"}]
[16,"R",null,null,10032437,"ROXANA","TAGLIAFERRO","103NJ44","LM BONITA",null,null,null,null,"ARG",null,{"$f":"'[1]80 KM'!I17","v":19.431072210065654},"01:54:15",null,{"$f":"'[1]80 KM'!P17","v":13.280049185367355},{"$f":"'[1]80 KM'!Q17","v":"01:48:26"},null,{"$f":"'[1]80 KM'!W17","v":15.985043234400584},{"$f":"'[1]80 KM'!X17","v":"01:11:19"},null,null,null,null,null,null,null,null,null,null,null,null,null,null,{"$f":"'[1]80 KM'!AD17","v":16.232054876611198},{"$f":"'[1]80 KM'!AE17","v":"04:54:00"}]
[17,"R",null,null,10056786,"KATHLEEN","GARCIA CONRAD","104KR34","GC PENINSULA",null,null,null,null,"ARG",null,{"$f":"'[1]80 KM'!I18","v":19.27641099855283},"01:55:10",null,{"$f":"'[1]80 KM'!P18","v":13.478939157566295},{"$f":"'[1]80 KM'!Q18","v":"01:46:50"},null,{"$f":"'[1]80 KM'!W18","v":14.424293547026583},{"$f":"'[1]80 KM'!X18","v":"01:19:02"},null,null,null,null,null,null,null,null,null,null,null,null,null,null,15.78,{"$f":"'[1]80 KM'!AE18","v":"05:01:02"}]
[18,"R",null,null,10084991,"VICTORIA","BALZA","104JF37","MORA DANIKA",null,null,null,null,"ARG",null,{"$f":"'[1]80 KM'!I19","v":19.98499624906227},"01:51:05",null,{"$f":"'[1]80 KM'!P19","v":12.79052553663953},{"$f":"'[1]80 KM'!Q19","v":"01:52:35"},null,{"$f":"'[1]80 KM'!W19","v":14.553191489361705},{"$f":"'[1]80 KM'!X19","v":"01:18:20"},null,null,null,null,null,null,null,null,null,null,null,null,null,null,15.73,{"$f":"'[1]80 KM'!AE19","v":"05:02:00"}]
[19,"R",null,null,10092658,"BRAULIO EZEQUIEL","GOMEZ","104KL09","CUATRERO FG",null,null,null,null,"ARG",null,{"$f":"'[1]80 KM'!I20","v":20.536540240518047},"01:48:06",null,{"$f":"'[1]80 KM'!P20","v":12.283195905601357},{"$f":"'[1]80 KM'!Q20","v":"01:57:14"},null,{"$f":"'[1]80 KM'!W20","v":14.220374220374218},{"$f":"'[1]80 KM'!X20","v":"01:20:10"},null,null,null,null,null,null,null,null,null,null,null,null,null,null,{"$f":"'[1]80 KM'!AD20","v":15.680036788831208},{"$f":"'[1]80 KM'!AE20","v":"05:05:30"}]
[20,"R",null,null,10014084,"BEATRIZ","MURIEL","104DB76","BOX TRABUCO",null,null,null,null,"ARG",null,{"$f":"'[1]80 KM'!I21","v":16.530156366344009},"02:14:18",null,{"$f":"'[1]80 KM'!P21","v":12.83803863298661},{"$f":"'[1]80 KM'!Q21","v":"01:52:10"},null,{"$f":"'[1]80 KM'!W21","v":15.918082383057923},{"$f":"'[1]80 KM'!X21","v":"01:11:37"},null,null,null,null,null,null,null,null,null,null,null,null,null,null,{"$f":"'[1]80 KM'!AD21","v":15.095425794129513},{"$f":"'[1]80 KM'!AE21","v":"05:18:05"}]
[21,"R",null,null,10018372,"CLARA","TADDEO","104GN81","HSB TINTIN",null,null,null,null,"ARG",null,{"$f":"'[1]80 KM'!I22","v":18.676388109927093},"01:58:52",null,{"$f":"'[1]80 KM'!P22","v":11.945250933222724},{"$f":"'[1]80 KM'!Q22","v":"02:00:33"},null,{"$f":"'[1]80 KM'!W22","v":13.307392996108939},{"$f":"'[1]80 KM'!X22","v":"01:25:40"},null,null,null,null,null,null,null,null,null,null,null,null,null,null,{"$f":"'[1]80 KM'!AD22","v":14.643010679752919},{"$f":"'[1]80 KM'!AE22","v":"05:25:05"}]
[22,"R",null,null,10055573,"NICOLA","THORNE ","102SG76","LM ZAN NAPHL",null,null,null,null,"GBR",null,{"$f":"'[1]80 KM'!I23","v":18.377483443708606},"02:00:48",null,{"$f":"'[1]80 KM'!P23","v":11.203319502074686},{"$f":"'[1]80 KM'!Q23","v":"02:08:32"},null,{"$f":"'[1]80 KM'!W23","v":12.713754646840163},{"$f":"'[1]80 KM'!X23","v":"01:29:40"},null,null,null,null,null,null,null,null,null,null,null,null,null,null,{"$f":"'[1]80 KM'!AD23","v":14.098185864207819},{"$f":"'[1]80 KM'!AE23","v":"05:39:00"}]
[23,"R",null,null,10018240,"DAVID","RAMIREZ FUENTES ","104JF47","LC CHURRINCHE",null,null,null,null,"CHI",null,{"$f":"'[1]80 KM'!I24","v":18.734177215189877},"01:58:30",null,{"$f":"'[1]80 KM'!P24","v":11.3059408531798},{"$f":"'[1]80 KM'!Q24","v":"02:07:22"},null,{"$f":"'[1]80 KM'!W24","v":11.384820239680421},{"$f":"'[1]80 KM'!X24","v":"01:40:08"},null,null,null,null,null,null,null,null,null,null,null,null,null,null,{"$f":"'[1]80 KM'!AD24","v":13.808312769350033},{"$f":"'[1]80 KM'!AE24","v":"05:46:00"}]
[24,"R",null,null,10048031,"JULIETA","LOMBARDO","104KL18","M KIPA",null,null,null,null,"ARG",null,{"$f":"'[1]80 KM'!I25","v":18.536042304480944},"01:59:46",null,{"$f":"'[1]80 KM'!P25","v":11.201866977829637},{"$f":"'[1]80 KM'!Q25","v":"02:08:33"},null,{"$f":"'[1]80 KM'!W25","v":10.995016878315388},{"$f":"'[1]80 KM'!X25","v":"01:43:41"},null,null,null,null,null,null,null,null,null,null,null,null,null,null,13.63,{"$f":"'[1]80 KM'!AE25","v":"05:52:00"}]
[25,"R",null,null,10062172,"MARIA DEL CARMEN","SALABERRY","104KL16","LP ZEUS",null,null,null,null,"ARG",null,{"$f":"'[1]80 KM'!I26","v":17.908039795643994},"02:03:58",null,{"$f":"'[1]80 KM'!P26","v":11.425548796614651},{"$f":"'[1]80 KM'!Q26","v":"02:06:02"},null,{"$f":"'[1]80 KM'!W26","v":11.172819340084956},{"$f":"'[1]80 KM'!X26","v":"01:42:02"},null,null,null,null,null,null,null,null,null,null,null,null,null,null,13.63,{"$f":"'[1]80 KM'!AE26","v":"05:52:02"}]
[26,"R",null,null,10033942,"MARIANO","PITA","104KO54","MI ALAZAN PP",null,null,null,null,"ARG",null,{"$f":"'[1]80 KM'!I27","v":18.42578503250795},"02:03:00",null,{"$f":"'[1]80 KM'!P27","v":10.189880882179503},{"$f":"'[1]80 KM'!Q27","v":"02:21:19"},null,{"$f":"'[1]80 KM'!W27","v":12.097629996462691},{"$f":"'[1]80 KM'!X27","v":"01:34:14"},null,null,null,null,null,null,null,null,null,null,null,null,null,null,13.63,{"$f":"'[1]80 KM'!AE27","v":"05:56:02"}]
[28,"R",null,null,10077473,"ARIEL","COSTA","104IU73","MO HASSANA",null,null,null,null,"ARG",null,{"$f":"'[1]80 KM'!I29","v":19.883564711150914},"02:00:29",null,{"$f":"'[1]80 KM'!P29","v":9.7089560624789328},{"$f":"'[1]80 KM'!Q29","v":"02:28:19"},null,{"$f":"'[1]80 KM'!W29","v":11.870878167303017},{"$f":"'[1]80 KM'!X29","v":"01:36:02"},null,null,null,null,null,null,null,null,null,null,null,null,null,null,13.48,{"$f":"'[1]80 KM'!AE29","v":"05:56:00"}]
[29,"R",null,null,10013827,"MERCEDES","TAPIA","104KJ96","CAZON SUXIE",null,null,null,null,"ARG",null,{"$f":"'[1]80 KM'!I31","v":21.452729908197774},"01:43:29",null,{"$f":"'[1]80 KM'!P31","v":8.9357741234874339},{"$f":"'[1]80 KM'!Q31","v":"02:41:09"},null,{"$f":"'[1]80 KM'!W31","v":12.342114760014436},{"$f":"'[1]80 KM'!X31","v":"01:32:22"},null,null,null,null,null,null,null,null,null,null,null,null,null,null,13.44,{"$f":"'[1]80 KM'!AE31","v":"05:57:00"}]
[30,"R",null,null,10025716,"JIMENA","SUNBLAD","104KJ95","CAZON ULTRASONICA",null,null,null,null,"ARG",null,{"$f":"'[1]80 KM'!I32","v":21.449275362318851},"01:43:30",null,{"$f":"'[1]80 KM'!P32","v":8.7715736040609169},{"$f":"'[1]80 KM'!Q32","v":"02:44:10"},null,{"$f":"'[1]80 KM'!W32","v":12.756434166355836},{"$f":"'[1]80 KM'!X32","v":"01:29:22"},null,null,null,null,null,null,null,null,null,null,null,null,null,null,13.44,{"$f":"'[1]80 KM'!AE32","v":"05:57:02"}]
[31,"R",null,null,10025742,"JUAN CRUZ","ROSALES","104KO50","DR. LUNA",null,null,null,null,"ARG",null,{"$f":"'[1]80 KM'!I33","v":18.201694452036079},"02:01:58",null,{"$f":"'[1]80 KM'!P33","v":10.315186246418332},{"$f":"'[1]80 KM'!Q33","v":"02:19:36"},null,{"$f":"'[1]80 KM'!W33","v":11.581442600745012},{"$f":"'[1]80 KM'!X33","v":"01:38:26"},null,null,null,null,null,null,null,null,null,null,null,null,null,null,13.33,{"$f":"'[1]80 KM'!AE33","v":"06:00:00"}]
[32,"R",null,null,10109249,"RAMIRO","MARSIGLIO","104KO48","DR. INDIO",null,null,null,null,"ARG",null,{"$f":"'[1]80 KM'!I34","v":19.20415224913496},"01:55:36",null,{"$f":"'[1]80 KM'!P34","v":9.747292418772572},{"$f":"'[1]80 KM'!Q34","v":"02:27:44"},null,{"$f":"'[1]80 KM'!W34","v":11.789038262668033},{"$f":"'[1]80 KM'!X34","v":"01:36:42"},null,null,null,null,null,null,null,null,null,null,null,null,null,null,13.33,{"$f":"'[1]80 KM'!AE34","v":"06:00:02"}]
[33,"R",null,null,10086986,"MARTIN","LABARI","103PD46","LC BELARUS",null,null,null,null,"ARG",null,{"$f":"'[1]80 KM'!I35","v":15.652173913043478},"02:21:50",null,11.2,"02:09:01",null,12.31,"01:30:01",null,null,null,null,null,null,null,null,null,null,null,null,null,null,13.03,"06:01:00"]
[34,"R",null,null,10056023,"ELADIO","NIETO","104KN48","HED PARISINA",null,null,null,null,"ARG",null,15.6,"02:22:00",null,11.2,"02:09:00",null,12.3,"01:30:00",null,null,null,null,null,null,null,null,null,null,null,null,null,null,13.03,"06:01:02"]
[35,"R",null,null,10109347,"RAMON ISMAEL","BARRETO","104KR30","CAZON REYNA",null,null,null,null,"ARG",null,15.6,"02:22:04",null,11.2,"02:09:04",null,12.31,"01:30:04",null,null,null,null,null,null,null,null,null,null,null,null,null,null,13.03,"06:01:03"]
[null,"EL",null,null,10055832," FRANCISCO","LARRERE","104KN47","LM FURIA",null,null,null,null,"ARG",null,{"$f":"'[1]80 KM'!I39","v":18.397790055248628},{"$f":"'[1]80 KM'!J39","v":"02:00:40"},"FQLA"]
[null,"EL",null,null,10036823,"DIANE","AMENDOLARA","104KL94","CHAPA BLAZE",null,null,null,null,"ARG",null,{"$f":"'[1]80 KM'!I40","v":22.88266620855525},{"$f":"'[1]80 KM'!J40","v":"01:37:01"},"FQLA"]
[null,"EL",null,null,10040631,"IGNACIO ","BARRIOS","104KL17","RA FAIR",null,null,null,null,"URU",null,{"$f":"'[1]80 KM'!I41","v":20.332773622347741},{"$f":"'[1]80 KM'!J41","v":"01:49:11"},"FQLA"]
[null,"EL",null,null,10083453,"MARTIN","MORENO MIRA","104JF53","LM VICONAPH",null,null,null,null,"ARG",null,{"$f":"'[1]80 KM'!I42","v":24.498804487768979},{"$f":"'[1]80 KM'!J42","v":"01:30:37"},"FQLA"]
[null,"EL",null,null,10047342,"ROSARIO","VAN GELDEREN","104CS29","MORA SASHA",null,null,null,null,"ARG",null,{"$f":"'[1]80 KM'!I43","v":20.338983050847467},{"$f":"'[1]80 KM'!J43","v":"01:49:09"},"FQLA"]
[null,"EL",null,null,10105460,"DANIEL","BARRETO","104GZ13","RELINCHO POP",null,null,null,null,"ARG",null,{"$f":"'[1]80 KM'!I44","v":26.06653620352251},{"$f":"'[1]80 KM'!J44","v":"01:25:10"},"FQLA"]
[null,"EL",null,null,10054844,"SILVINA","FORTUNA","104JC88","NATASHA YR",null,null,null,null,"ARG",null,{"$f":"'[1]80 KM'!I45","v":15.855255326746821},{"$f":"'[1]80 KM'!J45","v":"02:20:01"},null,{"$f":"'[1]80 KM'!P45","v":8.688656476267095},{"$f":"'[1]80 KM'!Q45","v":"02:45:44"},"FQLA"]
[null,"EL",null,null,10107309,"GASTON","PEJKOVIC","104KL00","GUAZU CORVINA",null,null,null,null,"ARG",null,{"$f":"'[1]80 KM'!I46","v":23.51694915254236},{"$f":"'[1]80 KM'!J46","v":"01:34:24"},null,{"$f":"'[1]80 KM'!P46","v":15.763546798029575},{"$f":"'[1]80 KM'!Q46","v":"01:31:21"},"FQLA"]
[null,"EL",null,null,10102201,"AILIN","WERGZYN","103JJ85","MUÑECA TR",null,null,null,null,"ARG",null,{"$f":"'[1]80 KM'!I47","v":18.765849535080299},{"$f":"'[1]80 KM'!J47","v":"01:58:18"},null,{"$f":"'[1]80 KM'!P47","v":14.984391259105086},{"$f":"'[1]80 KM'!Q47","v":"01:36:06"},"FQLA"]
[null,"EL",null,null,10058345,"ANDRÉS ","RIVERO","104JY25","LT LANZA",null,null,null,null,"URU",null,{"$f":"'[1]80 KM'!I48","v":20.799500312304819},{"$f":"'[1]80 KM'!J48","v":"01:46:44"},null,{"$f":"'[1]80 KM'!P48","v":12.545375344852618},{"$f":"'[1]80 KM'!Q48","v":"01:54:47"},"FQME"]
[null,"EL",null,null,10019719,"SOFIA","VARGAS","104KO40","RS TIBURÓN BLANCO",null,null,null,null,"ARG",null,{"$f":"'[1]80 KM'!I49","v":18.618954431087502},{"$f":"'[1]80 KM'!J49","v":"01:59:14"},null,{"$f":"'[1]80 KM'!P49","v":10.26615969581748},{"$f":"'[1]80 KM'!Q49","v":"02:20:16"},"FQLA"]
[null,"EL",null,null,10018353,"ADRIÁN","CORREA","104KH45","RO ATLAS",null,null,null,null,"ARG",null,{"$f":"'[1]80 KM'!I50","v":11.694468832309045},{"$f":"'[1]80 KM'!J50","v":"03:09:50"},null,{"$f":"'[1]80 KM'!P50","v":16.457142857142838},{"$f":"'[1]80 KM'!Q50","v":"01:27:30"},"FQLA"]
[null,"EL",null,null,10025778,"NUBER","PACHON CARDOZO","104KL96","EL GRINGO CHICO",null,null,null,null,"URU",null,{"$f":"'[1]80 KM'!I51","v":24.850746268656732},{"$f":"'[1]80 KM'!J51","v":"01:29:20"},null,{"$f":"'[1]80 KM'!P51","v":18.437900128040958},{"$f":"'[1]80 KM'!Q51","v":"01:18:06"},"FQLA"]
[null,"EL",null,null,10014117," NADIA","SUAREZ","104KM83","M KOM",null,null,null,null,"ARG",null,{"$f":"'[1]80 KM'!I52","v":25.512353955181009},{"$f":"'[1]80 KM'!J52","v":"01:27:01"},null,{"$f":"'[1]80 KM'!P52","v":17.85492870427775},{"$f":"'[1]80 KM'!Q52","v":"01:20:39"},"FQLA"]
[null,"EL",null,null,10105457,"HORACIO","VIÑAS","104GZ10","HV CHICHOLINA",null,null,null,null,"ARG",null,{"$f":"'[1]80 KM'!I53","v":27.351129363449687},{"$f":"'[1]80 KM'!J53","v":"01:21:10"},null,{"$f":"'[1]80 KM'!P53","v":14.614343707713132},{"$f":"'[1]80 KM'!Q53","v":"01:38:32"},"FQME"]
[null,"EL",null,null,10034337,"FELIPE","SPELANZON","103PM71","FS FLORIDO",null,null,null,null,"ARG",null,{"$f":"'[1]80 KM'!I54","v":24.575645756457558},{"$f":"'[1]80 KM'!J54","v":"01:30:20"},null,{"$f":"'[1]80 KM'!P54","v":18.17799284662318},{"$f":"'[1]80 KM'!Q54","v":"01:19:13"},"FQLA"]
[null,"EL",null,null,10020659,"CONSTANZA","CASTELBAJAC","104KL14","LA ROGELIA",null,null,null,null,"ARG",null,{"$f":"'[1]80 KM'!I55","v":25.179584120982991},{"$f":"'[1]80 KM'!J55","v":"01:28:10"},null,{"$f":"'[1]80 KM'!P55","v":19.272808387240701},{"$f":"'[1]80 KM'!Q55","v":"01:14:43"},"FQLA"]
[null,"EL",null,null,10069254,"CATERINA","AMELLOTI","103PQ50","CG JELIRA",null,null,null,null,"ARG",null,{"$f":"'[1]80 KM'!I56","v":26.909090909090928},{"$f":"'[1]80 KM'!J56","v":"01:22:30"},null,{"$f":"'[1]80 KM'!P56","v":18.721560130010836},{"$f":"'[1]80 KM'!Q56","v":"01:16:55"},"FQLA"]
[null,"EL",null,null,10027432,"AZUL","CARONIA","104KP81","SOL NEGRO SU",null,null,null,null,"ARG",null,{"$f":"'[1]80 KM'!I57","v":24.086799276672703},{"$f":"'[1]80 KM'!J57","v":"01:32:10"},null,{"$f":"'[1]80 KM'!P57","v":17.027985810011828},{"$f":"'[1]80 KM'!Q57","v":"01:24:34"},null,{"$f":"'[1]80 KM'!P57","v":17.027985810011828},{"$f":"'[1]80 KM'!Q57","v":"01:24:34"},"FQLA"]
[null,"EL",null,null,10014109,"LUCILO","FERNANDEZ","103BQ61","CG JELLUD",null,null,null,null,"ARG",null,{"$f":"'[1]80 KM'!I58","v":20.825515947467157},{"$f":"'[1]80 KM'!J58","v":"01:46:36"},null,{"$f":"'[1]80 KM'!P58","v":14.84536082474227},{"$f":"'[1]80 KM'!Q58","v":"01:37:00"},null,{"$f":"'[1]80 KM'!P58","v":14.84536082474227},{"$f":"'[1]80 KM'!Q58","v":"01:37:00"},"FQLA"]
[null,"EL",null,null,10101410,"MARIA SOLEDAD","JARABA","104KL15","LP SUERTE",null,null,null,null,"ARG",null,{"$f":"'[1]80 KM'!I59","v":21.21694807263459},{"$f":"'[1]80 KM'!J59","v":"01:44:38"},null,{"$f":"'[1]80 KM'!P59","v":11.109682396811111},{"$f":"'[1]80 KM'!Q59","v":"02:09:37"},null,{"$f":"'[1]80 KM'!P59","v":11.109682396811111},{"$f":"'[1]80 KM'!Q59","v":"02:09:37"},"FQLA"]

{"sheet":"team","index":4,"n_rows":1,"n_cols":6,"rows_kept":1,"cut":false,"hidden":false,"merged":[]}
["ns1:Position","ns1:PosStatus","ns1:NF","ns1:TeamName","ns1:Prize","ns1:PrizeCurrency"]

{"sheet":"Documentation","index":5,"n_rows":69,"n_cols":5,"rows_kept":69,"cut":false,"hidden":false,"merged":[[0,0,0,4],[2,0,2,3],[4,0,4,3],[5,0,5,3],[25,0,26,0],[25,1,26,1],[25,2,26,2],[25,3,26,3]]}
["Endurance Result Form for FEI Family"]
[]
["PLEASE USE ONE BOOK PER COMPETITION",null,null,null,"For further information, please read our xml Documentation."]
[]
["For individual results only, the sheets Individual must be filled up."]
["For team results, the sheets Individual and team must be filled up."]
[]
[]
[null,"Individual"]
[null,"Team"]
["Annexes:"]
[null,"Abbreviated currencies"]
[null,"Olympic Codes"]
[]
[]
["Individual"]
[]
["Column","Name","Mandatory","Description","Comment"]
["A","ns1:Position",null,"Rank of the combination","No rank for the rider that are eliminated, retired or withdrawn"]
["B","ns1:PosStatus",null,"Status","If the rider is ranked or eliminated, retired or withdrawn. Write down one of the 5 abbreviations:\n• R: Ranked\n• el: eliminated\n• ret: retired\n• wd: withdrawn\n• dsq: disqualified (*2)\nNo other code accepted"]
["C","ns1:PosStatusComplement",null,"Status complement","Let this field emplty"]
["D","ns1:PosStatusComplementData",null,"Status comment","Let this field emplty"]
["E","ns1:CompetitorFEIID",null,"The FEI ID of the rider","The rider MUST be recorded in the FEI database and MUST have a registration for the current year. (8 numbers)"]
["F","ns1:CompetitorFirstname",null,"The First Name of the Rider.","The system will compare the first name with the one in the system."]
["G","ns1:CompetitorFamilyname",null,"The Family Name of the Rider.","The system will compare the family name with the one in the system."]
["H","ns1:HorseFEIID",null,"The FEI ID of the horse","The horse MUST be recorded in the FEI database and MUST have a registration for the current year."]
[null,null,null,null,"(Old Horse FEI IDs: 2 letters + 5 numbers, new Horse FEI IDs: 3 letters + 2 numbers + 2 letters). The FEI ID must be entered without any space."]
["I","ns1:HorseCompleteName",null,"The horse complete name","The system will compare the name with the one in the system."]
["J","ns1:Prize",null,"The prize won","Prize won by the athelete"]
["K","ns1:PrizeCurrency",null,"The prize currency","The abbreviated currency (see Annex I)"]
["L","ns1:IsWNominated",null,"Receive World Cup points","Let this field emplty"]
["M","ns1:TeamNF",null,"The Name of the Team","Leave blank for riders that competes only for individual.\nA IOC Code (as defined in Annex II) is usually entered if the combination is competing in a team, but if you have more than one team per Country, you can fill this column with the name of the teams."]
["N","ns1:CompetingFor",null,"IOC Code - Sport Nationality of the rider","Use the 3 letters of the Olympic Committee (OC) abbreviations (see Annex II). No other are accepted"]
["O","ns1:First Vet Inspection Elimination Code",null,"First Vet Inspection limination Code","First Vet Inspection Elimination Code. The elimination code before the first ride. Write down ONLY 2 abbreviations: \n• dns: do not start\n• wd: withdrawn\n"]
["P","ns1:AvgSpeed1",null,"Average Speed 1","Average Speed 1. The Average Speed (Distance / Time) from the start Inspection to the 1st Vet Gate. Only number are accepted. Decimal must be set with “.” (Only. i.e.: ##.##). No other letter or character are accepted."]
["Q","ns1:RideTime1",null,"Ride Time 1","Ride Time 1. The Ride Time  from the start Inspection to the 1st Vet Gate. Only number are accepted. No other code are accepted. (EX : 01:02:29)"]
["R","ns1:Vet Gat eElim Code1",null,"Vet Gat eElim Code 1","Vet Gate Elimination Code 1. Write down one of the 8 abbreviations:\n• el: eliminated\n• ret: retired\n• wd: withdrawn\n• Dnf: do not finish\n• dsq: disqualified\n• me tr: Metabolic treatment\n• la: Lame\n• me: Metabolic\n"]
["S","ns1:AvgSpeed2",null,"Average Speed 2","Average Speed 2. The Average Speed (Distance / Time) from the Vet 1st Inspection to the 2nd Vet Gate. Only number are accepted. Decimal must be set with “.” (Only. i.e.: ##.##). No other letter or character are accepted."]
["T","ns1:RideTime2",null,"Ride Time 2","Ride Time 2. The Ride Time from tthe Vet 1st Inspection to the 2nd Vet Gate. Show time in seconds without decimal. Only number are accepted. No other code are accepted.  (EX : 01:02:29)"]
["U","ns1:Vet Gat eElim Code2",null,"Vet Gat eElim Code 2","Vet Gate Elimination Code 2. Write down one of the 8 abbreviations:\n• el: eliminated\n• ret: retired\n• wd: withdrawn\n• Dnf: do not finish\n• dsq: disqualified\n• me tr: Metabolic treatment\n• la: Lame\n• me: Metabolic"]
["V","ns1:AvgSpeed3",null,"Average Speed 3","Average Speed 3. The Average Speed (Distance / Time) from the Vet 2nd  Inspection to the 3rd Vet Gate. Only number are accepted. Decimal must be set with “.” (Only. i.e.: ##.##). No other letter or character are accepted."]
["W","ns1:RideTime3",null,"Ride Time 3","Ride Time 3. The Ride Time from the Vet 2nd  Inspection to the 3rd Vet Gate. Show time in seconds without decimal. Only number are accepted. No other code are accepted.  (EX : 01:02:29)"]
["X","ns1:Vet Gat eElim Code3",null,"Vet Gat eElim Code 3","Vet Gate Elimination Code 3.Write down one of the 8 abbreviations:\n• el: eliminated\n• ret: retired\n• wd: withdrawn\n• Dnf: do not finish\n• dsq: disqualified\n• me tr: Metabolic treatment\n• la: Lame\n• me: Metabolic"]
["Y","ns1:AvgSpeed4",null,"Average Speed 4","Average Speed 4. The Average Speed (Distance / Time) from the Vet 3rd Inspection to the 4th Vet Gate. Only number are accepted. Decimal must be set with “.” (Only. i.e.: ##.##). No other letter or character are accepted."]
["Z","ns1:RideTime4",null,"Ride Time 4","Ride Time 4. The Ride Time from the Vet 3rd Inspection to the 4th Vet Gate.Only number are accepted. No other code are accepted.  (EX : 01:02:29)"]
["AA","ns1:Vet Gat eElim Code4",null,"Vet Gat eElim Code 4","Vet Gate Elimination Code 4. Write down one of the 8 abbreviations:\n• el: eliminated\n• ret: retired\n• wd: withdrawn\n• Dnf: do not finish\n• dsq: disqualified\n• me tr: Metabolic treatment\n• la: Lame\n• me: Metabolic"]
["AB","ns1:AvgSpeed5",null,"Average Speed 5","Average Speed 5. The Average Speed (Distance / Time) from the Vet 4th Inspection to the 5th Vet Gate. Only number are accepted. Decimal must be set with “.” (Only. i.e.: ##.##). No other letter or character are accepted."]
["AC","ns1:RideTime5",null,"Ride Time 5","Ride Time 5. The Ride Time from the Vet 4th Inspection to the 5th Vet Gate. Show time in seconds without decimal. Only number are accepted. No other code are accepted. (EX : 01:02:29)"]
["AD","ns1:Vet Gat eElim Code5",null,"Vet Gat eElim Code 5","Vet Gate Elimination Code 5. The elimination code after Vet Gate 1.Write down one of the 8 abbreviations:\n• el: eliminated\n• ret: retired\n• wd: withdrawn\n• Dnf: do not finish\n• dsq: disqualified\n• me tr: Metabolic treatment\n• la: Lame\n• me: Metabolic"]
["AE","ns1:AvgSpeed6",null,"Average Speed 6","Average Speed 6. The Average Speed (Distance / Time) from the Vet 5st Inspection to the 6st Vet Gate. Only number are accepted. Decimal must be set with “.” (Only. i.e.: ##.##). No other letter or character are accepted."]
["AF","ns1:RideTime6",null,"Ride Time 6","Ride Time 6. The Ride Time from the Vet 1st Inspection to the 1st Vet Gate.The Ride Time ffrom the Vet 5st Inspection to the 6st Vet Gate. Only number are accepted. No other code are accepted.  (EX : 01:02:29)"]
["AG","ns1:Vet Gat eElim Code6",null,"Vet Gat eElim Code 6","Vet Gate Elimination Code 6. Write down one of the 8 abbreviations:\n• el: eliminated\n• ret: retired\n• wd: withdrawn\n• ftq: Failed to qualify\n• dsq: disqualified\n• me tr: Metabolic treatment\n• la: Lame\n• me: Metabolic"]
["AH","ns1:AvgSpeed7",null,"Average Speed 7","Average Speed 7. The Average Speed (Distance / Time) from the Vet 1st Inspection to the 1st Vet Gate. Only number are accepted. Decimal must be set with “.” (Only. i.e.: ##.##). No other letter or character are accepted."]
["AI","ns1:RideTime7",null,"Ride Time 7","Ride Time 7. The Ride Time from the Vet 1st Inspection to the 1st Vet Gate. Show time in seconds without decimal. Only number are accepted. No other code are accepted.. The Ride Time from the Vet 1st Inspection to the 1st Vet Gate. Show time in seconds without decimal. Only number are accepted. No other code are accepted."]
[null,"ns1:Vet Gat eElim Code7",null,"Vet Gat eElim Code 7","Vet Gate Elimination Code 7. Write down one of the 8 abbreviations:\n• el: eliminated\n• ret: retired\n• wd: withdrawn\n• Dnf: do not finish\n• dsq: disqualified\n• me tr: Metabolic treatment\n• la: Lame\n• me: Metabolic"]
["AJ","ns1:VetFinalInspElimCode",null,"ns1:VetFinalInspElimCode","Vet Final Inspection Elimination Code. Write down one of the 8 abbreviations:\n• el: eliminated\n• ret: retired\n• wd: withdrawn\n• ftq: Failed to qualify\n• dsq: disqualified\n• me tr: Metabolic treatment\n• la: Lame\n• me: Metabolic\n"]
["AK","ns1:BestCondition",null,"ns1:BestCondition","Best Condition. Write down TRUE for the horse who complete the race with the best physical condition and FALSE for the other horse. Only zero or one TRUE is accepted. No other code is accepted."]
["AL","ns1:TotalAvgSpeed",null,"ns1:TotalAvgSpeed","Total Average Speed. The total of the distance run divided by the total time run during the race. "]
["AM","ns1:TotalTime",null,"ns1:TotalTime","Total Time. The total time of the race without the time at Vet Gates. Show time in seconds without decimal. Only number are accepted. No other code is accepted.  (EX : 01:02:29)"]
[]
["Team"]
[]
["Column","Name",null,"Description","Comment"]
["A","ns1:Position",null,"Rank of the team","No rank for the teams who are eliminated, retired or withdrawn."]
["B","ns1:PosStatus",null,"Status","If the team is eliminated, retired or withdrawn. Write down one of the 3 abbreviations:\nw  el: eliminated\nw  ret: retired\nw  wd: withdrawn\nNo other code accepted"]
["C","ns1:NF",null,"The Nationality of the team ","Use the 3 letters of the Olympic Committee abbreviations. (See Annex II)"]
["D","ns1:TeamName",null,"The name of the team","You can just write down again the nationality abbreviations or Team names if there are many teams with the same nationality."]
["E","ns1:Prize",null,"The prize won","Number without currency. (If the team won a prize in kind, the corresponding value must be used). Only numbers are accepted."]
["F","ns1:PrizeCurrency",null,"The prize currency","The abbreviated currency (see Annex I)"]

{"sheet":"Annex II - IOC Codes","index":6,"n_rows":212,"n_cols":4,"rows_kept":212,"cut":false,"hidden":false,"merged":[]}
["Annex II"]
[]
[]
["Olympic Codes"]
[]
[]
[null,null,"Nation (NOC) ","Code "]
[null,null,"Afghanistan ","AFG "]
[null,null,"Netherlands Antilles ","AHO "]
[null,null,"Albania ","ALB "]
[null,null,"Algeria ","ALG "]
[null,null,"Andorra ","AND "]
[null,null,"Angola ","ANG "]
[null,null,"Antigua and Barbuda ","ANT "]
[null,null,"Argentina ","ARG "]
[null,null,"Armenia ","ARM "]
[null,null,"Aruba ","ARU "]
[null,null,"American Samoa ","ASA "]
[null,null,"Australia ","AUS "]
[null,null,"Austria ","AUT "]
[null,null,"Azerbaijan ","AZE "]
[null,null,"Bahamas ","BAH "]
[null,null,"Bangladesh ","BAN "]
[null,null,"Barbados ","BAR "]
[null,null,"Burundi ","BDI "]
[null,null,"Belgium ","BEL "]
[null,null,"Benin ","BEN "]
[null,null,"Bermuda ","BER "]
[null,null,"Bhutan ","BHU "]
[null,null,"Bosnia and Herzegovina ","BIH "]
[null,null,"Belize ","BIZ "]
[null,null,"Belarus ","BLR "]
[null,null,"Bolivia ","BOL "]
[null,null,"Botswana ","BOT "]
[null,null,"Brazil ","BRA "]
[null,null,"Bahrain ","BRN "]
[null,null,"Brunei ","BRU "]
[null,null,"Bulgaria ","BUL "]
[null,null,"Burkina Faso ","BUR "]
[null,null,"Central African Republic ","CAF "]
[null,null,"Cambodia ","CAM "]
[null,null,"Canada ","CAN "]
[null,null,"Cayman Islands ","CAY "]
[null,null,"Congo ","CGO "]
[null,null,"Chad ","CHA "]
[null,null,"Chile ","CHI "]
[null,null,"China ","CHN "]
[null,null,"Côte d'Ivoire ","CIV "]
[null,null,"Cameroon ","CMR "]
[null,null,"DR Congo ","COD "]
[null,null,"Cook Islands ","COK "]
[null,null,"Colombia ","COL "]
[null,null,"Comoros ","COM "]
[null,null,"Cape Verde ","CPV "]
[null,null,"Costa Rica ","CRC "]
[null,null,"Croatia ","CRO "]
[null,null,"Cuba ","CUB "]
[null,null,"Cyprus ","CYP "]
[null,null,"Czech Republic ","CZE "]
[null,null,"Denmark ","DEN "]
[null,null,"Djibouti ","DJI "]
[null,null,"Dominica ","DMA "]
[null,null,"Dominican Republic ","DOM "]
[null,null,"Ecuador ","ECU "]
[null,null,"Egypt ","EGY "]
[null,null,"Eritrea ","ERI "]
[null,null,"El Salvador ","ESA "]
[null,null,"Spain ","ESP "]
[null,null,"Estonia ","EST "]
[null,null,"Ethiopia ","ETH "]
[null,null,"Fiji ","FIJ "]
[null,null,"Finland ","FIN "]
[null,null,"France ","FRA "]
[null,null,"Micronesia ","FSM "]
[null,null,"Gabon ","GAB "]
[null,null,"Gambia ","GAM "]
[null,null,"Great Britain ","GBR "]
[null,null,"Guinea-Bissau ","GBS "]
[null,null,"Georgia ","GEO "]
[null,null,"Equatorial Guinea ","GEQ "]
[null,null,"Germany ","GER "]
[null,null,"Ghana ","GHA "]
[null,null,"Greece ","GRE "]
[null,null,"Grenada ","GRN "]
[null,null,"Guatemala ","GUA "]
[null,null,"Guinea ","GUI "]
[null,null,"Guam ","GUM "]
[null,null,"Guyana ","GUY "]
[null,null,"Haiti ","HAI "]
[null,null,"Hong Kong ","HKG "]
[null,null,"Honduras ","HON "]
[null,null,"Hungary ","HUN "]
[null,null,"Indonesia ","INA "]
[null,null,"India ","IND "]
[null,null,"Iran ","IRI "]
[null,null,"Ireland ","IRL "]
[null,null,"Iraq ","IRQ "]
[null,null,"Iceland ","ISL "]
[null,null,"Israel ","ISR "]
[null,null,"Virgin Islands ","ISV "]
[null,null,"Italy ","ITA "]
[null,null,"British Virgin Islands ","IVB "]
[null,null,"Jamaica ","JAM "]
[null,null,"Jordan ","JOR "]
[null,null,"Japan ","JPN "]
[null,null,"Kazakhstan ","KAZ "]
[null,null,"Kenya ","KEN "]
[null,null,"Kyrgyzstan ","KGZ "]
[null,null,"Kiribati ","KIR "]
[null,null,"South Korea ","KOR "]
[null,null,"Saudi Arabia ","KSA "]
[null,null,"Kuwait ","KUW "]
[null,null,"Laos ","LAO "]
[null,null,"Latvia ","LAT "]
[null,null,"Libya ","LBA "]
[null,null,"Liberia ","LBR "]
[null,null,"Saint Lucia ","LCA "]
[null,null,"Lesotho ","LES "]
[null,null,"Lebanon ","LIB "]
[null,null,"Liechtenstein ","LIE "]
[null,null,"Lithuania ","LTU "]
[null,null,"Luxembourg ","LUX "]
[null,null,"Madagascar ","MAD "]
[null,null,"Morocco ","MAR "]
[null,null,"Malaysia ","MAS "]
[null,null,"Malawi ","MAW "]
[null,null,"Moldova ","MDA "]
[null,null,"Maldives ","MDV "]
[null,null,"Mexico ","MEX "]
[null,null,"Mongolia ","MGL "]
[null,null,"Marshall Islands ","MHL "]
[null,null,"Macedonia ","MKD "]
[null,null,"Mali ","MLI "]
[null,null,"Malta ","MLT "]
[null,null,"Montenegro ","MNE "]
[null,null,"Monaco ","MON "]
[null,null,"Mozambique ","MOZ "]
[null,null,"Mauritius ","MRI "]
[null,null,"Mauritania ","MTN "]
[null,null,"Myanmar ","MYA "]
[null,null,"Namibia ","NAM "]
[null,null,"Nicaragua ","NCA "]
[null,null,"Netherlands ","NED "]
[null,null,"Nepal ","NEP "]
[null,null,"Nigeria ","NGR "]
[null,null,"Niger ","NIG "]
[null,null,"Norway ","NOR "]
[null,null,"Nauru ","NRU "]
[null,null,"New Zealand ","NZL "]
[null,null,"Oman ","OMA "]
[null,null,"Pakistan ","PAK "]
[null,null,"Panama ","PAN "]
[null,null,"Paraguay ","PAR "]
[null,null,"Peru ","PER "]
[null,null,"Philippines ","PHI "]
[null,null,"Palestine ","PLE "]
[null,null,"Palau ","PLW "]
[null,null,"Papua New Guinea ","PNG "]
[null,null,"Poland ","POL "]
[null,null,"Portugal ","POR "]
[null,null,"North Korea ","PRK "]
[null,null,"Puerto Rico ","PUR "]
[null,null,"Qatar ","QAT "]
[null,null,"Romania ","ROU "]
[null,null,"South Africa ","RSA "]
[null,null,"Russia ","RUS "]
[null,null,"Rwanda ","RWA "]
[null,null,"Samoa ","SAM "]
[null,null,"Senegal ","SEN "]
[null,null,"Seychelles ","SEY "]
[null,null,"Singapore ","SIN "]
[null,null,"Saint Kitts and Nevis ","SKN "]
[null,null,"Sierra Leone ","SLE "]
[null,null,"Slovenia ","SLO "]
[null,null,"San Marino ","SMR "]
[null,null,"Solomon Islands ","SOL "]
[null,null,"Somalia ","SOM "]
[null,null,"Serbia ","SRB "]
[null,null,"Sri Lanka ","SRI "]
[null,null,"São Tomé and Príncipe ","STP "]
[null,null,"Sudan ","SUD "]
[null,null,"Switzerland ","SUI "]
[null,null,"Suriname ","SUR "]
[null,null,"Slovakia ","SVK "]
[null,null,"Sweden ","SWE "]
[null,null,"Swaziland ","SWZ "]
[null,null,"Syria ","SYR "]
[null,null,"Tanzania ","TAN "]
[null,null,"Tonga ","TGA "]
[null,null,"Thailand ","THA "]
[null,null,"Tajikistan ","TJK "]
[null,null,"Turkmenistan ","TKM "]
[null,null,"Timor-Leste ","TLS "]
[null,null,"Togo ","TOG "]
[null,null,"Chinese Taipei[3] ","TPE "]
[null,null,"Trinidad and Tobago ","TRI "]
[null,null,"Tunisia ","TUN "]
[null,null,"Turkey ","TUR "]
[null,null,"Tuvalu ","TUV "]
[null,null,"United Arab Emirates ","UAE "]
[null,null,"Uganda ","UGA "]
[null,null,"Ukraine ","UKR "]
[null,null,"Uruguay ","URU "]
[null,null,"United States ","USA "]
[null,null,"Uzbekistan ","UZB "]
[null,null,"Vanuatu ","VAN "]
[null,null,"Venezuela ","VEN "]
[null,null,"Vietnam ","VIE "]
[null,null,"Saint Vincent and the Grenadines ","VIN "]
[null,null,"Yemen ","YEM "]
[null,null,"Zambia ","ZAM "]
[null,null,"Zimbabwe ","ZIM "]

{"sheet":"Annex I - Currencies","index":7,"n_rows":171,"n_cols":4,"rows_kept":171,"cut":false,"hidden":false,"merged":[]}
["Annex I"]
[]
["Abbreviated currencies"]
[]
[null,null,"Currency","Code"]
[null,null,"\tUnited Arab Emirates dirham \tUnited Arab Emirates","AED"]
[null,null,"\tAfghani \tAfghanistan","AFN"]
[null,null,"\tLek \tAlbania","ALL"]
[null,null,"\tArmenian dram \tArmenia","AMD"]
[null,null,"\tNetherlands Antillean guilder \tNetherlands Antilles","ANG"]
[null,null,"\tKwanza \tAngola","AOA"]
[null,null,"\tArgentine peso \tArgentina","ARS"]
[null,null,"\tAustralian dollar \tAustralia, Australian Antarctic Territory, Christmas Island, Cocos (Keeling) Islands, Heard and McDonald Islands, Kiribati, Nauru, Norfolk Island, Tuvalu","AUD"]
[null,null,"\tAruban guilder \tAruba","AWG"]
[null,null,"\tAzerbaijanian manat \tAzerbaijan","AZN"]
[null,null,"\tConvertible marks \tBosnia and Herzegovina","BAM"]
[null,null,"\tBarbados dollar \tBarbados","BBD"]
[null,null,"\tBangladeshi taka \tBangladesh","BDT"]
[null,null,"\tBulgarian lev \tBulgaria","BGN"]
[null,null,"\tBahraini dinar \tBahrain","BHD"]
[null,null,"\tBurundian franc \tBurundi","BIF"]
[null,null,"\tBermudian dollar (customarily known as Bermuda dollar) \tBermuda","BMD"]
[null,null,"\tBrunei dollar \tBrunei, Singapore","BND"]
[null,null,"\tBoliviano \tBolivia","BOB"]
[null,null,"\tBolivian Mvdol (funds code) \tBolivia","BOV"]
[null,null,"\tBrazilian real \tBrazil","BRL"]
[null,null,"\tBahamian dollar \tBahamas","BSD"]
[null,null,"\tNgultrum \tBhutan","BTN"]
[null,null,"\tPula \tBotswana","BWP"]
[null,null,"\tBelarusian ruble \tBelarus","BYR"]
[null,null,"\tBelize dollar \tBelize","BZD"]
[null,null,"\tCanadian dollar \tCanada","CAD"]
[null,null,"\tFranc Congolais \tDemocratic Republic of Congo","CDF"]
[null,null,"\tWIR euro (complementary currency) \tSwitzerland","CHE"]
[null,null,"\tSwiss franc \tSwitzerland, Liechtenstein","CHF"]
[null,null,"\tWIR franc (complementary currency) \tSwitzerland","CHW"]
[null,null,"\tUnidad de Fomento (funds code) \tChile","CLF"]
[null,null,"\tChilean peso \tChile","CLP"]
[null,null,"\tChinese Yuan \tChina (Mainland)","CNY"]
[null,null,"\tColombian peso \tColombia","COP"]
[null,null,"\tUnidad de Valor Real \tColombia","COU"]
[null,null,"\tCosta Rican colon \tCosta Rica","CRC"]
[null,null,"\tCuban convertible peso \tCuba","CUC"]
[null,null,"\tCuban peso \tCuba","CUP"]
[null,null,"\tCape Verde escudo \tCape Verde","CVE"]
[null,null,"\tCzech Koruna \tCzech Republic","CZK"]
[null,null,"\tDjibouti franc \tDjibouti","DJF"]
[null,null,"\tDanish krone \tDenmark, Faroe Islands, Greenland","DKK"]
[null,null,"\tDominican peso \tDominican Republic","DOP"]
[null,null,"\tAlgerian dinar \tAlgeria","DZD"]
[null,null,"\tKroon \tEstonia","EEK"]
[null,null,"\tEgyptian pound \tEgypt","EGP"]
[null,null,"\tNakfa \tEritrea","ERN"]
[null,null,"\tEthiopian birr \tEthiopia","ETB"]
[null,null,"\teuro \t16 European Union countries, Andorra, Kosovo, Monaco, Montenegro, San Marino, Vatican; see eurozone","EUR"]
[null,null,"\tFiji dollar \tFiji","FJD"]
[null,null,"\tFalkland Islands pound \tFalkland Islands","FKP"]
[null,null,"\tPound sterling \tUnited Kingdom, Crown Dependencies (the Isle of Man and the Channel Islands), certain British Overseas Territories (South Georgia and the South Sandwich Islands, British Antarctic Territory and British Indian Ocean Territory)","GBP"]
[null,null,"\tLari \tGeorgia","GEL"]
[null,null,"\tCedi \tGhana","GHS"]
[null,null,"\tGibraltar pound \tGibraltar","GIP"]
[null,null,"\tDalasi \tGambia","GMD"]
[null,null,"\tGuinea franc \tGuinea","GNF"]
[null,null,"\tQuetzal \tGuatemala","GTQ"]
[null,null,"\tGuyana dollar \tGuyana","GYD"]
[null,null,"\tHong Kong dollar \tHong Kong Special Administrative Region","HKD"]
[null,null,"\tLempira \tHonduras","HNL"]
[null,null,"\tCroatian kuna \tCroatia","HRK"]
[null,null,"\tHaiti gourde \tHaiti","HTG"]
[null,null,"\tForint \tHungary","HUF"]
[null,null,"\tRupiah \tIndonesia","IDR"]
[null,null,"\tIsraeli new sheqel \tIsrael","ILS"]
[null,null,"\tIndian rupee \tBhutan, India","INR"]
[null,null,"\tIraqi dinar \tIraq","IQD"]
[null,null,"\tIranian rial \tIran","IRR"]
[null,null,"\tIceland krona \tIceland","ISK"]
[null,null,"\tJamaican dollar \tJamaica","JMD"]
[null,null,"\tJordanian dinar \tJordan","JOD"]
[null,null,"\tJapanese yen \tJapan","JPY"]
[null,null,"\tKenyan shilling \tKenya","KES"]
[null,null,"\tSom \tKyrgyzstan","KGS"]
[null,null,"\tRiel \tCambodia","KHR"]
[null,null,"\tComoro franc \tComoros","KMF"]
[null,null,"\tNorth Korean won \tNorth Korea","KPW"]
[null,null,"\tSouth Korean won \tSouth Korea","KRW"]
[null,null,"\tKuwaiti dinar \tKuwait","KWD"]
[null,null,"\tCayman Islands dollar \tCayman Islands","KYD"]
[null,null,"\tTenge \tKazakhstan","KZT"]
[null,null,"\tKip \tLaos","LAK"]
[null,null,"\tLebanese pound \tLebanon","LBP"]
[null,null,"\tSri Lanka rupee \tSri Lanka","LKR"]
[null,null,"\tLiberian dollar \tLiberia","LRD"]
[null,null,"\tLesotho loti \tLesotho","LSL"]
[null,null,"\tLithuanian litas \tLithuania","LTL"]
[null,null,"\tLatvian lats \tLatvia","LVL"]
[null,null,"\tLibyan dinar \tLibya","LYD"]
[null,null,"\tMoroccan dirham \tMorocco, Western Sahara","MAD"]
[null,null,"\tMoldovan leu \tMoldova","MDL"]
[null,null,"0.7 \tMalagasy ariary \tMadagascar","MGA"]
[null,null,"\tDenar \tMacedonia","MKD"]
[null,null,"\tKyat \tMyanmar","MMK"]
[null,null,"\tTugrik \tMongolia","MNT"]
[null,null,"\tPataca \tMacau Special Administrative Region","MOP"]
[null,null,"0.7 \tOuguiya \tMauritania","MRO"]
[null,null,"\tMauritius rupee \tMauritius","MUR"]
[null,null,"\tRufiyaa \tMaldives","MVR"]
[null,null,"\tKwacha \tMalawi","MWK"]
[null,null,"\tMexican peso \tMexico","MXN"]
[null,null,"\tMexican Unidad de Inversion (UDI) (funds code) \tMexico","MXV"]
[null,null,"\tMalaysian ringgit \tMalaysia","MYR"]
[null,null,"\tMetical \tMozambique","MZN"]
[null,null,"\tNamibian dollar \tNamibia","NAD"]
[null,null,"\tNaira \tNigeria","NGN"]
[null,null,"\tCordoba oro \tNicaragua","NIO"]
[null,null,"\tNorwegian krone \tNorway, Bouvet Island, Queen Maud Land, Peter I Island","NOK"]
[null,null,"\tNepalese rupee \tNepal","NPR"]
[null,null,"\tNew Zealand dollar \tCook Islands, New Zealand, Niue, Pitcairn, Tokelau","NZD"]
[null,null,"\tRial Omani \tOman","OMR"]
[null,null,"\tBalboa \tPanama","PAB"]
[null,null,"\tNuevo sol \tPeru","PEN"]
[null,null,"\tKina \tPapua New Guinea","PGK"]
[null,null,"\tPhilippine peso \tPhilippines","PHP"]
[null,null,"\tPakistan rupee \tPakistan","PKR"]
[null,null,"\tZloty \tPoland","PLN"]
[null,null,"\tGuarani \tParaguay","PYG"]
[null,null,"\tQatari rial \tQatar","QAR"]
[null,null,"\tRomanian new leu \tRomania","RON"]
[null,null,"\tSerbian dinar \tSerbia","RSD"]
[null,null,"\tRussian rouble \tRussia, Abkhazia, South Ossetia","RUB"]
[null,null,"\tRwanda franc \tRwanda","RWF"]
[null,null,"\tSaudi riyal \tSaudi Arabia","SAR"]
[null,null,"\tSolomon Islands dollar \tSolomon Islands","SBD"]
[null,null,"\tSeychelles rupee \tSeychelles","SCR"]
[null,null,"\tSudanese pound \tSudan","SDG"]
[null,null,"\tSwedish krona/kronor \tSweden","SEK"]
[null,null,"\tSingapore dollar \tSingapore, Brunei","SGD"]
[null,null,"\tSaint Helena pound \tSaint Helena","SHP"]
[null,null,"\tLeone \tSierra Leone","SLL"]
[null,null,"\tSomali shilling \tSomalia","SOS"]
[null,null,"\tSurinam dollar \tSuriname","SRD"]
[null,null,"\tDobra \tSão Tomé and Príncipe","STD"]
[null,null,"\tSyrian pound \tSyria","SYP"]
[null,null,"\tLilangeni \tSwaziland","SZL"]
[null,null,"\tBaht \tThailand","THB"]
[null,null,"\tSomoni \tTajikistan","TJS"]
[null,null,"\tManat \tTurkmenistan","TMT"]
[null,null,"\tTunisian dinar \tTunisia","TND"]
[null,null,"\tPa'anga \tTonga","TOP"]
[null,null,"\tTurkish lira \tTurkey, Northern Cyprus","TRY"]
[null,null,"\tTrinidad and Tobago dollar \tTrinidad and Tobago","TTD"]
[null,null,"\tNew Taiwan dollar \tTaiwan and other islands that are under the effective control of the Republic of China (ROC)","TWD"]
[null,null,"\tTanzanian shilling \tTanzania","TZS"]
[null,null,"\tHryvnia \tUkraine","UAH"]
[null,null,"\tUganda shilling \tUganda","UGX"]
[null,null,"\tUS dollar \tAmerican Samoa, British Indian Ocean Territory, Ecuador, El Salvador, Guam, Haiti, Marshall Islands, Micronesia, Northern Mariana Islands, Palau, Panama, Puerto Rico, Timor-Leste, Turks and Caicos Islands, United States, Virgin Islands, Bermuda (as well as Bermudian Dollar)","USD"]
[null,null,"\tUnited States dollar (next day) (funds code) \tUnited States","USN"]
[null,null,"\tUnited States dollar (same day) (funds code) (one source[who?] claims it is no longer used, but it is still on the ISO 4217-MA list) \tUnited States","USS"]
[null,null,"\tPeso Uruguayo \tUruguay","UYU"]
[null,null,"\tUzbekistan som \tUzbekistan","UZS"]
[null,null,"\tVenezuelan bolívar fuerte \tVenezuela","VEF"]
[null,null,"\tVietnamese d?ng \tVietnam","VND"]
[null,null,"\tVatu \tVanuatu","VUV"]
[null,null,"\tSamoan tala \tSamoa","WST"]
[null,null,"\tCFA franc BEAC \tCameroon, Central African Republic, Congo, Chad, Equatorial Guinea, Gabon","XAF"]
[null,null,"\tEast Caribbean dollar \tAnguilla, Antigua and Barbuda, Dominica, Grenada, Montserrat, Saint Kitts and Nevis, Saint Lucia, Saint Vincent and the Grenadines","XCD"]
[null,null,"\tCFA Franc BCEAO \tBenin, Burkina Faso, Côte d'Ivoire, Guinea-Bissau, Mali, Niger, Senegal, Togo","XOF"]
[null,null,"\tCFP franc \tFrench Polynesia, New Caledonia, Wallis and Futuna","XPF"]
[null,null,"\tYemeni rial \tYemen","YER"]
[null,null,"\tSouth African rand \tSouth Africa","ZAR"]
[null,null,"\tKwacha \tZambia","ZMK"]
[null,null,"\tZimbabwe dollar \tZimbabwe","ZWL"]

{"sheet":"Examples","index":8,"n_rows":24,"n_cols":39,"rows_kept":24,"cut":false,"hidden":false,"merged":[]}
["Examples"]
[]
["Please note that those data are for example only."]
[]
["Enter a team:"]
["ns1:Position","ns1:PosStatus","ns1:NF","ns1:TeamName","ns1:Prize","ns1:PrizeCurrency"]
[1,"R","IRL","IRL",64000,"EUR"]
[null,"el","USA","USA",40000,"EUR"]
[]
[null,"The individual results must contain the individuals competing for the team(See the example: Enter a NC for CSIO)"]
[]
[]
["Enter a Normal Competition:"]
["ns1:Position","ns1:PosStatus","ns1:PosStatusComplement","ns1:PosStatusComplementData","ns1:CompetitorFEIID","ns1:CompetitorFirstname","ns1:CompetitorFamilyname","ns1:HorseFEIID","ns1:HorseCompleteName","ns1:Prize","ns1:PrizeCurrency","ns1:IsWNominated","ns1:TeamNF","ns1:CompetingFor","ns1:VetFirstInspElimCode","ns1:AvgSpeed1","ns1:RideTime1","ns1:VetGateElimCode1","ns1:AvgSpeed2","ns1:RideTime2","ns1:VetGateElimCode2","ns1:AvgSpeed3","ns1:RideTime3","ns1:VetGateElimCode3","ns1:AvgSpeed4","ns1:RideTime4","ns1:VetGateElimCode4","ns1:AvgSpeed5","ns1:RideTime5","ns1:VetGateElimCode5","ns1:AvgSpeed6","ns1:RideTime6","ns1:VetGateElimCode6","ns1:AvgSpeed7","ns1:RideTime7","ns1:VetFinalInspElimCode","ns1:BestCondition","ns1:TotalAvgSpeed","ns1:TotalTime"]
[1,"R",null,null,10067334,"LISANNE","DORIAN","103JX16","JG FAST TULIP",null,null,false,null,"USA",null,16.41,7020,null,14.85,5820,null,14.98,5766,null,null,null,null,null,null,null,null,null,null,null,null,null,true,15.41,18606]
[2,"R",null,null,10083124,"KAREN","KEILHOLTZ","103KY22","TSUNAMI STORM",null,null,false,null,"USA",null,16.41,7020,null,13.09,6600,null,12.1,7140,null,null,null,null,null,null,null,null,null,null,null,null,null,false,13.87,20760]
[3,"R",null,null,10082048,"KRISTEN","CAMPER","103LA19","LILY CREEK DANCIN'",null,null,false,null,"USA",null,13.24,8700,null,10.43,8280,null,8.26,10460,null,null,null,null,null,null,null,null,null,null,null,null,null,false,10.65,27440]
[null,"FTQ",null,null,10017605,"CECILIA","BUTLER-STASIUK","103CY60","AMP ITUP",null,null,false,null,"USA",null,17.78,6480,null,16.18,5340,"la",null,null,null,null,null,null,null,null,null,null,null,null,null,null,null,false]
[null,"FTQ",null,null,10064863,"SALLY ANN","JELLISON","102UY53","GRACIE",null,null,false,null,"USA",null,10.050000000000001,11460,null,6.37,13560,null,7.49,11532,null,null,null,null,null,null,null,null,null,null,null,null,"la",false]
[]
["Enter Team competition:"]
["ns1:Position","ns1:PosStatus","ns1:PosStatusComplement","ns1:PosStatusComplementData","ns1:CompetitorFEIID","ns1:CompetitorFirstname","ns1:CompetitorFamilyname","ns1:HorseFEIID","ns1:HorseCompleteName","ns1:Prize","ns1:PrizeCurrency","ns1:IsWNominated","ns1:TeamNF","ns1:CompetingFor"]
[1,"R",null,null,10067334,"LISANNE","DORIAN","103JX16","JG FAST TULIP",16000,"EUR",false,null,"IRL"]
[2,"R",null,null,10083124,"KAREN","KEILHOLTZ","103KY22","TSUNAMI STORM",10000,"EUR",false,"USA","USA"]

{"sheet":"Hoja1","index":9,"n_rows":0,"n_cols":0,"rows_kept":0,"cut":false,"hidden":false,"merged":[]}